BEGIN:VCALENDAR
VERSION:2.0
PRODID:-//Well Beings - ECPv6.15.17.1//NONSGML v1.0//EN
CALSCALE:GREGORIAN
METHOD:PUBLISH
X-WR-CALNAME:Well Beings
X-ORIGINAL-URL:https://wellbeings.org
X-WR-CALDESC:Events for Well Beings
REFRESH-INTERVAL;VALUE=DURATION:PT1H
X-Robots-Tag:noindex
X-PUBLISHED-TTL:PT1H
BEGIN:VTIMEZONE
TZID:America/New_York
BEGIN:DAYLIGHT
TZOFFSETFROM:-0500
TZOFFSETTO:-0400
TZNAME:EDT
DTSTART:20190310T070000
END:DAYLIGHT
BEGIN:STANDARD
TZOFFSETFROM:-0400
TZOFFSETTO:-0500
TZNAME:EST
DTSTART:20191103T060000
END:STANDARD
BEGIN:DAYLIGHT
TZOFFSETFROM:-0500
TZOFFSETTO:-0400
TZNAME:EDT
DTSTART:20200308T070000
END:DAYLIGHT
BEGIN:STANDARD
TZOFFSETFROM:-0400
TZOFFSETTO:-0500
TZNAME:EST
DTSTART:20201101T060000
END:STANDARD
BEGIN:DAYLIGHT
TZOFFSETFROM:-0500
TZOFFSETTO:-0400
TZNAME:EDT
DTSTART:20210314T070000
END:DAYLIGHT
BEGIN:STANDARD
TZOFFSETFROM:-0400
TZOFFSETTO:-0500
TZNAME:EST
DTSTART:20211107T060000
END:STANDARD
END:VTIMEZONE
BEGIN:VEVENT
DTSTART;TZID=America/New_York:20200727T163000
DTEND;TZID=America/New_York:20200727T223000
DTSTAMP:20260423T141214
CREATED:20250522T155412Z
LAST-MODIFIED:20250523T192516Z
UID:10000028-1595867400-1595889000@wellbeings.org
SUMMARY:Supporting Youth Mental Health: Are Georgia Schools Ready
DESCRIPTION:Students\, parents\, and educators are worried about the return to school during the coronavirus pandemic. Join GPB News host Virginia Prescott for an interactive virtual Town Hall focused on youth mental health and going back to school. \n\n\n\nIf you joined us live or watched the stream of the GPB Virtual Discussion Event\, please help us improve the development of future content and events by taking this brief survey. \n\n\n\nIn partnership with Well Beings\, Call to Mind\, and Georgia-based community partners\, learn more about available resources to support Georgia’s youth and their mental health. \n\n\n\n\n\n\n\nThe Well Beings Tour is a series of community-based outreach events hosted by local public media stations across the country to demystify and normalize mental health matters\, address discrimination and stigma\, and encourage compassion.
URL:https://wellbeings.org/event/supporting-youth-mental-health-are-georgia-schools-ready/
LOCATION:Georgia\, Georgia
CATEGORIES:Well Beings Events
ATTACH;FMTTYPE=image/jpeg:https://wellbeings.org/wp-content/uploads/2025/05/tezhuen-story-LmNH5v.jpg
GEO:42.315407;43.356892
X-APPLE-STRUCTURED-LOCATION;VALUE=URI;X-ADDRESS=Georgia Georgia;X-APPLE-RADIUS=500;X-TITLE=Georgia:geo:43.356892,42.315407
END:VEVENT
END:VCALENDAR