BEGIN:VCALENDAR
VERSION:2.0
PRODID:-//Well Beings - ECPv6.15.17.1//NONSGML v1.0//EN
CALSCALE:GREGORIAN
METHOD:PUBLISH
X-WR-CALNAME:Well Beings
X-ORIGINAL-URL:https://wellbeings.org
X-WR-CALDESC:Events for Well Beings
REFRESH-INTERVAL;VALUE=DURATION:PT1H
X-Robots-Tag:noindex
X-PUBLISHED-TTL:PT1H
BEGIN:VTIMEZONE
TZID:America/New_York
BEGIN:DAYLIGHT
TZOFFSETFROM:-0500
TZOFFSETTO:-0400
TZNAME:EDT
DTSTART:20260308T070000
END:DAYLIGHT
BEGIN:STANDARD
TZOFFSETFROM:-0400
TZOFFSETTO:-0500
TZNAME:EST
DTSTART:20261101T060000
END:STANDARD
BEGIN:DAYLIGHT
TZOFFSETFROM:-0500
TZOFFSETTO:-0400
TZNAME:EDT
DTSTART:20270314T070000
END:DAYLIGHT
BEGIN:STANDARD
TZOFFSETFROM:-0400
TZOFFSETTO:-0500
TZNAME:EST
DTSTART:20271107T060000
END:STANDARD
BEGIN:DAYLIGHT
TZOFFSETFROM:-0500
TZOFFSETTO:-0400
TZNAME:EDT
DTSTART:20280312T070000
END:DAYLIGHT
BEGIN:STANDARD
TZOFFSETFROM:-0400
TZOFFSETTO:-0500
TZNAME:EST
DTSTART:20281105T060000
END:STANDARD
BEGIN:DAYLIGHT
TZOFFSETFROM:-0500
TZOFFSETTO:-0400
TZNAME:EDT
DTSTART:20290311T070000
END:DAYLIGHT
BEGIN:STANDARD
TZOFFSETFROM:-0400
TZOFFSETTO:-0500
TZNAME:EST
DTSTART:20291104T060000
END:STANDARD
BEGIN:DAYLIGHT
TZOFFSETFROM:-0500
TZOFFSETTO:-0400
TZNAME:EDT
DTSTART:20300310T070000
END:DAYLIGHT
BEGIN:STANDARD
TZOFFSETFROM:-0400
TZOFFSETTO:-0500
TZNAME:EST
DTSTART:20301103T060000
END:STANDARD
BEGIN:DAYLIGHT
TZOFFSETFROM:-0500
TZOFFSETTO:-0400
TZNAME:EDT
DTSTART:20310309T070000
END:DAYLIGHT
BEGIN:STANDARD
TZOFFSETFROM:-0400
TZOFFSETTO:-0500
TZNAME:EST
DTSTART:20311102T060000
END:STANDARD
BEGIN:DAYLIGHT
TZOFFSETFROM:-0500
TZOFFSETTO:-0400
TZNAME:EDT
DTSTART:20320314T070000
END:DAYLIGHT
BEGIN:STANDARD
TZOFFSETFROM:-0400
TZOFFSETTO:-0500
TZNAME:EST
DTSTART:20321107T060000
END:STANDARD
END:VTIMEZONE
BEGIN:VEVENT
DTSTART;TZID=America/New_York:20270301T000000
DTEND;TZID=America/New_York:20270301T235959
DTSTAMP:20260424T084701
CREATED:20260306T151601Z
LAST-MODIFIED:20260306T151603Z
UID:10003404-1803859200-1803945599@wellbeings.org
SUMMARY:Colorectal Cancer Month
DESCRIPTION:Colorectal cancer is the deadliest cancer in people under 50 and the second deadliest overall.  \n\n\n\nThis March\, it’s time to say “Enough” and demand innovation that meets the scale of this disease. \n\n\n\nWe’ve had #EnoughCRC. Join the movement
URL:https://wellbeings.org/event/colorectal-cancer-month/2027-03-01/
CATEGORIES:Dates to Remember,Month-long Events
END:VEVENT
BEGIN:VEVENT
DTSTART;TZID=America/New_York:20280301T000000
DTEND;TZID=America/New_York:20280301T235959
DTSTAMP:20260424T084701
CREATED:20260306T151601Z
LAST-MODIFIED:20260306T151603Z
UID:10003405-1835481600-1835567999@wellbeings.org
SUMMARY:Colorectal Cancer Month
DESCRIPTION:Colorectal cancer is the deadliest cancer in people under 50 and the second deadliest overall.  \n\n\n\nThis March\, it’s time to say “Enough” and demand innovation that meets the scale of this disease. \n\n\n\nWe’ve had #EnoughCRC. Join the movement
URL:https://wellbeings.org/event/colorectal-cancer-month/2028-03-01/
CATEGORIES:Dates to Remember,Month-long Events
END:VEVENT
BEGIN:VEVENT
DTSTART;TZID=America/New_York:20290301T000000
DTEND;TZID=America/New_York:20290301T235959
DTSTAMP:20260424T084702
CREATED:20260306T151601Z
LAST-MODIFIED:20260306T151603Z
UID:10003406-1867017600-1867103999@wellbeings.org
SUMMARY:Colorectal Cancer Month
DESCRIPTION:Colorectal cancer is the deadliest cancer in people under 50 and the second deadliest overall.  \n\n\n\nThis March\, it’s time to say “Enough” and demand innovation that meets the scale of this disease. \n\n\n\nWe’ve had #EnoughCRC. Join the movement
URL:https://wellbeings.org/event/colorectal-cancer-month/2029-03-01/
CATEGORIES:Dates to Remember,Month-long Events
END:VEVENT
BEGIN:VEVENT
DTSTART;TZID=America/New_York:20300301T000000
DTEND;TZID=America/New_York:20300301T235959
DTSTAMP:20260424T084702
CREATED:20260306T151601Z
LAST-MODIFIED:20260306T151603Z
UID:10003407-1898553600-1898639999@wellbeings.org
SUMMARY:Colorectal Cancer Month
DESCRIPTION:Colorectal cancer is the deadliest cancer in people under 50 and the second deadliest overall.  \n\n\n\nThis March\, it’s time to say “Enough” and demand innovation that meets the scale of this disease. \n\n\n\nWe’ve had #EnoughCRC. Join the movement
URL:https://wellbeings.org/event/colorectal-cancer-month/2030-03-01/
CATEGORIES:Dates to Remember,Month-long Events
END:VEVENT
BEGIN:VEVENT
DTSTART;TZID=America/New_York:20310301T000000
DTEND;TZID=America/New_York:20310301T235959
DTSTAMP:20260424T084702
CREATED:20260306T151601Z
LAST-MODIFIED:20260306T151603Z
UID:10003408-1930089600-1930175999@wellbeings.org
SUMMARY:Colorectal Cancer Month
DESCRIPTION:Colorectal cancer is the deadliest cancer in people under 50 and the second deadliest overall.  \n\n\n\nThis March\, it’s time to say “Enough” and demand innovation that meets the scale of this disease. \n\n\n\nWe’ve had #EnoughCRC. Join the movement
URL:https://wellbeings.org/event/colorectal-cancer-month/2031-03-01/
CATEGORIES:Dates to Remember,Month-long Events
END:VEVENT
END:VCALENDAR