BEGIN:VCALENDAR
VERSION:2.0
PRODID:-//Well Beings - ECPv6.15.17.1//NONSGML v1.0//EN
CALSCALE:GREGORIAN
METHOD:PUBLISH
X-WR-CALNAME:Well Beings
X-ORIGINAL-URL:https://wellbeings.org
X-WR-CALDESC:Events for Well Beings
REFRESH-INTERVAL;VALUE=DURATION:PT1H
X-Robots-Tag:noindex
X-PUBLISHED-TTL:PT1H
BEGIN:VTIMEZONE
TZID:America/New_York
BEGIN:DAYLIGHT
TZOFFSETFROM:-0500
TZOFFSETTO:-0400
TZNAME:EDT
DTSTART:20260308T070000
END:DAYLIGHT
BEGIN:STANDARD
TZOFFSETFROM:-0400
TZOFFSETTO:-0500
TZNAME:EST
DTSTART:20261101T060000
END:STANDARD
BEGIN:DAYLIGHT
TZOFFSETFROM:-0500
TZOFFSETTO:-0400
TZNAME:EDT
DTSTART:20270314T070000
END:DAYLIGHT
BEGIN:STANDARD
TZOFFSETFROM:-0400
TZOFFSETTO:-0500
TZNAME:EST
DTSTART:20271107T060000
END:STANDARD
BEGIN:DAYLIGHT
TZOFFSETFROM:-0500
TZOFFSETTO:-0400
TZNAME:EDT
DTSTART:20280312T070000
END:DAYLIGHT
BEGIN:STANDARD
TZOFFSETFROM:-0400
TZOFFSETTO:-0500
TZNAME:EST
DTSTART:20281105T060000
END:STANDARD
BEGIN:DAYLIGHT
TZOFFSETFROM:-0500
TZOFFSETTO:-0400
TZNAME:EDT
DTSTART:20290311T070000
END:DAYLIGHT
BEGIN:STANDARD
TZOFFSETFROM:-0400
TZOFFSETTO:-0500
TZNAME:EST
DTSTART:20291104T060000
END:STANDARD
BEGIN:DAYLIGHT
TZOFFSETFROM:-0500
TZOFFSETTO:-0400
TZNAME:EDT
DTSTART:20300310T070000
END:DAYLIGHT
BEGIN:STANDARD
TZOFFSETFROM:-0400
TZOFFSETTO:-0500
TZNAME:EST
DTSTART:20301103T060000
END:STANDARD
BEGIN:DAYLIGHT
TZOFFSETFROM:-0500
TZOFFSETTO:-0400
TZNAME:EDT
DTSTART:20310309T070000
END:DAYLIGHT
BEGIN:STANDARD
TZOFFSETFROM:-0400
TZOFFSETTO:-0500
TZNAME:EST
DTSTART:20311102T060000
END:STANDARD
END:VTIMEZONE
BEGIN:VEVENT
DTSTART;TZID=America/New_York:20270315T000000
DTEND;TZID=America/New_York:20270315T235959
DTSTAMP:20260424T085215
CREATED:20260302T170651Z
LAST-MODIFIED:20260306T140522Z
UID:10003110-1805068800-1805155199@wellbeings.org
SUMMARY:International Day to Combat Islamophobia
DESCRIPTION:The United Nations General Assembly designated March 15 as the International Day to Combat Islamophobia to raise awareness about rising anti-Muslim bigotry and promote tolerance. The date commemorates the 2019 Christchurch\, New Zealand mosque shootings\, aiming to foster global dialogue on human rights\, peace\, and respect for religious diversity. 
URL:https://wellbeings.org/event/international-day-to-combat-islamophobia/2027-03-15/
CATEGORIES:Dates to Remember
END:VEVENT
BEGIN:VEVENT
DTSTART;TZID=America/New_York:20280315T000000
DTEND;TZID=America/New_York:20280315T235959
DTSTAMP:20260424T085215
CREATED:20260302T170651Z
LAST-MODIFIED:20260306T140522Z
UID:10003111-1836691200-1836777599@wellbeings.org
SUMMARY:International Day to Combat Islamophobia
DESCRIPTION:The United Nations General Assembly designated March 15 as the International Day to Combat Islamophobia to raise awareness about rising anti-Muslim bigotry and promote tolerance. The date commemorates the 2019 Christchurch\, New Zealand mosque shootings\, aiming to foster global dialogue on human rights\, peace\, and respect for religious diversity. 
URL:https://wellbeings.org/event/international-day-to-combat-islamophobia/2028-03-15/
CATEGORIES:Dates to Remember
END:VEVENT
BEGIN:VEVENT
DTSTART;TZID=America/New_York:20290315T000000
DTEND;TZID=America/New_York:20290315T235959
DTSTAMP:20260424T085215
CREATED:20260302T170651Z
LAST-MODIFIED:20260306T140522Z
UID:10003112-1868227200-1868313599@wellbeings.org
SUMMARY:International Day to Combat Islamophobia
DESCRIPTION:The United Nations General Assembly designated March 15 as the International Day to Combat Islamophobia to raise awareness about rising anti-Muslim bigotry and promote tolerance. The date commemorates the 2019 Christchurch\, New Zealand mosque shootings\, aiming to foster global dialogue on human rights\, peace\, and respect for religious diversity. 
URL:https://wellbeings.org/event/international-day-to-combat-islamophobia/2029-03-15/
CATEGORIES:Dates to Remember
END:VEVENT
BEGIN:VEVENT
DTSTART;TZID=America/New_York:20300315T000000
DTEND;TZID=America/New_York:20300315T235959
DTSTAMP:20260424T085215
CREATED:20260302T170651Z
LAST-MODIFIED:20260306T140522Z
UID:10003113-1899763200-1899849599@wellbeings.org
SUMMARY:International Day to Combat Islamophobia
DESCRIPTION:The United Nations General Assembly designated March 15 as the International Day to Combat Islamophobia to raise awareness about rising anti-Muslim bigotry and promote tolerance. The date commemorates the 2019 Christchurch\, New Zealand mosque shootings\, aiming to foster global dialogue on human rights\, peace\, and respect for religious diversity. 
URL:https://wellbeings.org/event/international-day-to-combat-islamophobia/2030-03-15/
CATEGORIES:Dates to Remember
END:VEVENT
END:VCALENDAR