BEGIN:VCALENDAR
VERSION:2.0
PRODID:-//Well Beings - ECPv6.15.17.1//NONSGML v1.0//EN
CALSCALE:GREGORIAN
METHOD:PUBLISH
X-WR-CALNAME:Well Beings
X-ORIGINAL-URL:https://wellbeings.org
X-WR-CALDESC:Events for Well Beings
REFRESH-INTERVAL;VALUE=DURATION:PT1H
X-Robots-Tag:noindex
X-PUBLISHED-TTL:PT1H
BEGIN:VTIMEZONE
TZID:America/New_York
BEGIN:DAYLIGHT
TZOFFSETFROM:-0500
TZOFFSETTO:-0400
TZNAME:EDT
DTSTART:20250309T070000
END:DAYLIGHT
BEGIN:STANDARD
TZOFFSETFROM:-0400
TZOFFSETTO:-0500
TZNAME:EST
DTSTART:20251102T060000
END:STANDARD
BEGIN:DAYLIGHT
TZOFFSETFROM:-0500
TZOFFSETTO:-0400
TZNAME:EDT
DTSTART:20260308T070000
END:DAYLIGHT
BEGIN:STANDARD
TZOFFSETFROM:-0400
TZOFFSETTO:-0500
TZNAME:EST
DTSTART:20261101T060000
END:STANDARD
BEGIN:DAYLIGHT
TZOFFSETFROM:-0500
TZOFFSETTO:-0400
TZNAME:EDT
DTSTART:20270314T070000
END:DAYLIGHT
BEGIN:STANDARD
TZOFFSETFROM:-0400
TZOFFSETTO:-0500
TZNAME:EST
DTSTART:20271107T060000
END:STANDARD
BEGIN:DAYLIGHT
TZOFFSETFROM:-0500
TZOFFSETTO:-0400
TZNAME:EDT
DTSTART:20280312T070000
END:DAYLIGHT
BEGIN:STANDARD
TZOFFSETFROM:-0400
TZOFFSETTO:-0500
TZNAME:EST
DTSTART:20281105T060000
END:STANDARD
BEGIN:DAYLIGHT
TZOFFSETFROM:-0500
TZOFFSETTO:-0400
TZNAME:EDT
DTSTART:20290311T070000
END:DAYLIGHT
BEGIN:STANDARD
TZOFFSETFROM:-0400
TZOFFSETTO:-0500
TZNAME:EST
DTSTART:20291104T060000
END:STANDARD
BEGIN:DAYLIGHT
TZOFFSETFROM:-0500
TZOFFSETTO:-0400
TZNAME:EDT
DTSTART:20300310T070000
END:DAYLIGHT
BEGIN:STANDARD
TZOFFSETFROM:-0400
TZOFFSETTO:-0500
TZNAME:EST
DTSTART:20301103T060000
END:STANDARD
BEGIN:DAYLIGHT
TZOFFSETFROM:-0500
TZOFFSETTO:-0400
TZNAME:EDT
DTSTART:20310309T070000
END:DAYLIGHT
BEGIN:STANDARD
TZOFFSETFROM:-0400
TZOFFSETTO:-0500
TZNAME:EST
DTSTART:20311102T060000
END:STANDARD
END:VTIMEZONE
BEGIN:VEVENT
DTSTART;TZID=America/New_York:20261101T000000
DTEND;TZID=America/New_York:20261101T225959
DTSTAMP:20260425T085507
CREATED:20250904T165608Z
LAST-MODIFIED:20260121T163258Z
UID:10000614-1793491200-1793573999@wellbeings.org
SUMMARY:Lung Cancer Awareness Month
DESCRIPTION:Lung Cancer Awareness Month is observed annually in November. During this time\, organizations and individuals raise awareness about lung cancer\, promote early detection\, and support research efforts. 
URL:https://wellbeings.org/event/lung-cancer-awareness-month/2026-11-01/
CATEGORIES:Dates to Remember,Month-long Events
END:VEVENT
BEGIN:VEVENT
DTSTART;TZID=America/New_York:20271101T000000
DTEND;TZID=America/New_York:20271101T235959
DTSTAMP:20260425T085507
CREATED:20250904T165608Z
LAST-MODIFIED:20260121T163258Z
UID:10000615-1825027200-1825113599@wellbeings.org
SUMMARY:Lung Cancer Awareness Month
DESCRIPTION:Lung Cancer Awareness Month is observed annually in November. During this time\, organizations and individuals raise awareness about lung cancer\, promote early detection\, and support research efforts. 
URL:https://wellbeings.org/event/lung-cancer-awareness-month/2027-11-01/
CATEGORIES:Dates to Remember,Month-long Events
END:VEVENT
BEGIN:VEVENT
DTSTART;TZID=America/New_York:20281101T000000
DTEND;TZID=America/New_York:20281101T235959
DTSTAMP:20260425T085507
CREATED:20250904T165608Z
LAST-MODIFIED:20260121T163258Z
UID:10000616-1856649600-1856735999@wellbeings.org
SUMMARY:Lung Cancer Awareness Month
DESCRIPTION:Lung Cancer Awareness Month is observed annually in November. During this time\, organizations and individuals raise awareness about lung cancer\, promote early detection\, and support research efforts. 
URL:https://wellbeings.org/event/lung-cancer-awareness-month/2028-11-01/
CATEGORIES:Dates to Remember,Month-long Events
END:VEVENT
BEGIN:VEVENT
DTSTART;TZID=America/New_York:20291101T000000
DTEND;TZID=America/New_York:20291101T235959
DTSTAMP:20260425T085507
CREATED:20250904T165608Z
LAST-MODIFIED:20260121T163258Z
UID:10000617-1888185600-1888271999@wellbeings.org
SUMMARY:Lung Cancer Awareness Month
DESCRIPTION:Lung Cancer Awareness Month is observed annually in November. During this time\, organizations and individuals raise awareness about lung cancer\, promote early detection\, and support research efforts. 
URL:https://wellbeings.org/event/lung-cancer-awareness-month/2029-11-01/
CATEGORIES:Dates to Remember,Month-long Events
END:VEVENT
BEGIN:VEVENT
DTSTART;TZID=America/New_York:20301101T000000
DTEND;TZID=America/New_York:20301101T235959
DTSTAMP:20260425T085507
CREATED:20250904T165608Z
LAST-MODIFIED:20260121T163258Z
UID:10000618-1919721600-1919807999@wellbeings.org
SUMMARY:Lung Cancer Awareness Month
DESCRIPTION:Lung Cancer Awareness Month is observed annually in November. During this time\, organizations and individuals raise awareness about lung cancer\, promote early detection\, and support research efforts. 
URL:https://wellbeings.org/event/lung-cancer-awareness-month/2030-11-01/
CATEGORIES:Dates to Remember,Month-long Events
END:VEVENT
END:VCALENDAR