BEGIN:VCALENDAR
VERSION:2.0
PRODID:-//Well Beings - ECPv6.15.17.1//NONSGML v1.0//EN
CALSCALE:GREGORIAN
METHOD:PUBLISH
X-WR-CALNAME:Well Beings
X-ORIGINAL-URL:https://wellbeings.org
X-WR-CALDESC:Events for Well Beings
REFRESH-INTERVAL;VALUE=DURATION:PT1H
X-Robots-Tag:noindex
X-PUBLISHED-TTL:PT1H
BEGIN:VTIMEZONE
TZID:America/New_York
BEGIN:DAYLIGHT
TZOFFSETFROM:-0500
TZOFFSETTO:-0400
TZNAME:EDT
DTSTART:20250309T070000
END:DAYLIGHT
BEGIN:STANDARD
TZOFFSETFROM:-0400
TZOFFSETTO:-0500
TZNAME:EST
DTSTART:20251102T060000
END:STANDARD
BEGIN:DAYLIGHT
TZOFFSETFROM:-0500
TZOFFSETTO:-0400
TZNAME:EDT
DTSTART:20260308T070000
END:DAYLIGHT
BEGIN:STANDARD
TZOFFSETFROM:-0400
TZOFFSETTO:-0500
TZNAME:EST
DTSTART:20261101T060000
END:STANDARD
BEGIN:DAYLIGHT
TZOFFSETFROM:-0500
TZOFFSETTO:-0400
TZNAME:EDT
DTSTART:20270314T070000
END:DAYLIGHT
BEGIN:STANDARD
TZOFFSETFROM:-0400
TZOFFSETTO:-0500
TZNAME:EST
DTSTART:20271107T060000
END:STANDARD
BEGIN:DAYLIGHT
TZOFFSETFROM:-0500
TZOFFSETTO:-0400
TZNAME:EDT
DTSTART:20280312T070000
END:DAYLIGHT
BEGIN:STANDARD
TZOFFSETFROM:-0400
TZOFFSETTO:-0500
TZNAME:EST
DTSTART:20281105T060000
END:STANDARD
BEGIN:DAYLIGHT
TZOFFSETFROM:-0500
TZOFFSETTO:-0400
TZNAME:EDT
DTSTART:20290311T070000
END:DAYLIGHT
BEGIN:STANDARD
TZOFFSETFROM:-0400
TZOFFSETTO:-0500
TZNAME:EST
DTSTART:20291104T060000
END:STANDARD
BEGIN:DAYLIGHT
TZOFFSETFROM:-0500
TZOFFSETTO:-0400
TZNAME:EDT
DTSTART:20300310T070000
END:DAYLIGHT
BEGIN:STANDARD
TZOFFSETFROM:-0400
TZOFFSETTO:-0500
TZNAME:EST
DTSTART:20301103T060000
END:STANDARD
BEGIN:DAYLIGHT
TZOFFSETFROM:-0500
TZOFFSETTO:-0400
TZNAME:EDT
DTSTART:20310309T070000
END:DAYLIGHT
BEGIN:STANDARD
TZOFFSETFROM:-0400
TZOFFSETTO:-0500
TZNAME:EST
DTSTART:20311102T060000
END:STANDARD
END:VTIMEZONE
BEGIN:VEVENT
DTSTART;TZID=America/New_York:20261101T000000
DTEND;TZID=America/New_York:20261101T225959
DTSTAMP:20260424T102427
CREATED:20250904T165142Z
LAST-MODIFIED:20260311T191258Z
UID:10003556-1793491200-1793573999@wellbeings.org
SUMMARY:National Diabetes Month
DESCRIPTION:November is National Diabetes Month\, a time when communities across the country seek to bring attention to diabetes. This year’s focus is on taking action to prevent diabetes health problems. \n\n\n\nDiabetes is a disease that occurs when your blood glucose\, also called blood sugar\, is too high. It affects about 38 million Americans\, including adults and youth. Diabetes can damage the eyes\, kidneys\, nerves\, and heart\, and it is linked to some types of cancer. \n\n\n\nBut there’s also good news: Taking charge of your health may help you prevent diabetes health problems.
URL:https://wellbeings.org/event/national-diabetes-month/2026-11-01/
CATEGORIES:Dates to Remember,Month-long Events
END:VEVENT
BEGIN:VEVENT
DTSTART;TZID=America/New_York:20271101T000000
DTEND;TZID=America/New_York:20271101T235959
DTSTAMP:20260424T102427
CREATED:20250904T165142Z
LAST-MODIFIED:20260311T191258Z
UID:10003557-1825027200-1825113599@wellbeings.org
SUMMARY:National Diabetes Month
DESCRIPTION:November is National Diabetes Month\, a time when communities across the country seek to bring attention to diabetes. This year’s focus is on taking action to prevent diabetes health problems. \n\n\n\nDiabetes is a disease that occurs when your blood glucose\, also called blood sugar\, is too high. It affects about 38 million Americans\, including adults and youth. Diabetes can damage the eyes\, kidneys\, nerves\, and heart\, and it is linked to some types of cancer. \n\n\n\nBut there’s also good news: Taking charge of your health may help you prevent diabetes health problems.
URL:https://wellbeings.org/event/national-diabetes-month/2027-11-01/
CATEGORIES:Dates to Remember,Month-long Events
END:VEVENT
BEGIN:VEVENT
DTSTART;TZID=America/New_York:20281101T000000
DTEND;TZID=America/New_York:20281101T235959
DTSTAMP:20260424T102427
CREATED:20250904T165142Z
LAST-MODIFIED:20260311T191258Z
UID:10003558-1856649600-1856735999@wellbeings.org
SUMMARY:National Diabetes Month
DESCRIPTION:November is National Diabetes Month\, a time when communities across the country seek to bring attention to diabetes. This year’s focus is on taking action to prevent diabetes health problems. \n\n\n\nDiabetes is a disease that occurs when your blood glucose\, also called blood sugar\, is too high. It affects about 38 million Americans\, including adults and youth. Diabetes can damage the eyes\, kidneys\, nerves\, and heart\, and it is linked to some types of cancer. \n\n\n\nBut there’s also good news: Taking charge of your health may help you prevent diabetes health problems.
URL:https://wellbeings.org/event/national-diabetes-month/2028-11-01/
CATEGORIES:Dates to Remember,Month-long Events
END:VEVENT
BEGIN:VEVENT
DTSTART;TZID=America/New_York:20291101T000000
DTEND;TZID=America/New_York:20291101T235959
DTSTAMP:20260424T102427
CREATED:20250904T165142Z
LAST-MODIFIED:20260311T191258Z
UID:10003559-1888185600-1888271999@wellbeings.org
SUMMARY:National Diabetes Month
DESCRIPTION:November is National Diabetes Month\, a time when communities across the country seek to bring attention to diabetes. This year’s focus is on taking action to prevent diabetes health problems. \n\n\n\nDiabetes is a disease that occurs when your blood glucose\, also called blood sugar\, is too high. It affects about 38 million Americans\, including adults and youth. Diabetes can damage the eyes\, kidneys\, nerves\, and heart\, and it is linked to some types of cancer. \n\n\n\nBut there’s also good news: Taking charge of your health may help you prevent diabetes health problems.
URL:https://wellbeings.org/event/national-diabetes-month/2029-11-01/
CATEGORIES:Dates to Remember,Month-long Events
END:VEVENT
BEGIN:VEVENT
DTSTART;TZID=America/New_York:20301101T000000
DTEND;TZID=America/New_York:20301101T235959
DTSTAMP:20260424T102427
CREATED:20250904T165142Z
LAST-MODIFIED:20260311T191258Z
UID:10003560-1919721600-1919807999@wellbeings.org
SUMMARY:National Diabetes Month
DESCRIPTION:November is National Diabetes Month\, a time when communities across the country seek to bring attention to diabetes. This year’s focus is on taking action to prevent diabetes health problems. \n\n\n\nDiabetes is a disease that occurs when your blood glucose\, also called blood sugar\, is too high. It affects about 38 million Americans\, including adults and youth. Diabetes can damage the eyes\, kidneys\, nerves\, and heart\, and it is linked to some types of cancer. \n\n\n\nBut there’s also good news: Taking charge of your health may help you prevent diabetes health problems.
URL:https://wellbeings.org/event/national-diabetes-month/2030-11-01/
CATEGORIES:Dates to Remember,Month-long Events
END:VEVENT
END:VCALENDAR