BEGIN:VCALENDAR
VERSION:2.0
PRODID:-//Well Beings - ECPv6.15.17.1//NONSGML v1.0//EN
CALSCALE:GREGORIAN
METHOD:PUBLISH
X-WR-CALNAME:Well Beings
X-ORIGINAL-URL:https://wellbeings.org
X-WR-CALDESC:Events for Well Beings
REFRESH-INTERVAL;VALUE=DURATION:PT1H
X-Robots-Tag:noindex
X-PUBLISHED-TTL:PT1H
BEGIN:VTIMEZONE
TZID:America/New_York
BEGIN:DAYLIGHT
TZOFFSETFROM:-0500
TZOFFSETTO:-0400
TZNAME:EDT
DTSTART:20250309T070000
END:DAYLIGHT
BEGIN:STANDARD
TZOFFSETFROM:-0400
TZOFFSETTO:-0500
TZNAME:EST
DTSTART:20251102T060000
END:STANDARD
BEGIN:DAYLIGHT
TZOFFSETFROM:-0500
TZOFFSETTO:-0400
TZNAME:EDT
DTSTART:20260308T070000
END:DAYLIGHT
BEGIN:STANDARD
TZOFFSETFROM:-0400
TZOFFSETTO:-0500
TZNAME:EST
DTSTART:20261101T060000
END:STANDARD
BEGIN:DAYLIGHT
TZOFFSETFROM:-0500
TZOFFSETTO:-0400
TZNAME:EDT
DTSTART:20270314T070000
END:DAYLIGHT
BEGIN:STANDARD
TZOFFSETFROM:-0400
TZOFFSETTO:-0500
TZNAME:EST
DTSTART:20271107T060000
END:STANDARD
BEGIN:DAYLIGHT
TZOFFSETFROM:-0500
TZOFFSETTO:-0400
TZNAME:EDT
DTSTART:20280312T070000
END:DAYLIGHT
BEGIN:STANDARD
TZOFFSETFROM:-0400
TZOFFSETTO:-0500
TZNAME:EST
DTSTART:20281105T060000
END:STANDARD
BEGIN:DAYLIGHT
TZOFFSETFROM:-0500
TZOFFSETTO:-0400
TZNAME:EDT
DTSTART:20290311T070000
END:DAYLIGHT
BEGIN:STANDARD
TZOFFSETFROM:-0400
TZOFFSETTO:-0500
TZNAME:EST
DTSTART:20291104T060000
END:STANDARD
BEGIN:DAYLIGHT
TZOFFSETFROM:-0500
TZOFFSETTO:-0400
TZNAME:EDT
DTSTART:20300310T070000
END:DAYLIGHT
BEGIN:STANDARD
TZOFFSETFROM:-0400
TZOFFSETTO:-0500
TZNAME:EST
DTSTART:20301103T060000
END:STANDARD
BEGIN:DAYLIGHT
TZOFFSETFROM:-0500
TZOFFSETTO:-0400
TZNAME:EDT
DTSTART:20310309T070000
END:DAYLIGHT
BEGIN:STANDARD
TZOFFSETFROM:-0400
TZOFFSETTO:-0500
TZNAME:EST
DTSTART:20311102T060000
END:STANDARD
END:VTIMEZONE
BEGIN:VEVENT
DTSTART;TZID=America/New_York:20260823T000000
DTEND;TZID=America/New_York:20260823T235959
DTSTAMP:20260422T170603
CREATED:20250805T173514Z
LAST-MODIFIED:20260108T222252Z
UID:10000477-1787443200-1787529599@wellbeings.org
SUMMARY:International Day of Remembrance of the Slave Trade and it's Abolition
DESCRIPTION:  \n\n\n\nThe International Day of Remembrance of the Slave Trade and it’s Abolition is an international day celebrated 23 August of each year\, the day designated by UNESCO to memorialize the transatlantic slave trade.
URL:https://wellbeings.org/event/international-day-of-remembrance-of-the-slave-trade-and-its-abolition/2026-08-23/
CATEGORIES:Dates to Remember
END:VEVENT
BEGIN:VEVENT
DTSTART;TZID=America/New_York:20270823T000000
DTEND;TZID=America/New_York:20270823T235959
DTSTAMP:20260422T170603
CREATED:20250805T173514Z
LAST-MODIFIED:20260108T222252Z
UID:10000478-1818979200-1819065599@wellbeings.org
SUMMARY:International Day of Remembrance of the Slave Trade and it's Abolition
DESCRIPTION:  \n\n\n\nThe International Day of Remembrance of the Slave Trade and it’s Abolition is an international day celebrated 23 August of each year\, the day designated by UNESCO to memorialize the transatlantic slave trade.
URL:https://wellbeings.org/event/international-day-of-remembrance-of-the-slave-trade-and-its-abolition/2027-08-23/
CATEGORIES:Dates to Remember
END:VEVENT
BEGIN:VEVENT
DTSTART;TZID=America/New_York:20280823T000000
DTEND;TZID=America/New_York:20280823T235959
DTSTAMP:20260422T170603
CREATED:20250805T173514Z
LAST-MODIFIED:20260108T222252Z
UID:10000479-1850601600-1850687999@wellbeings.org
SUMMARY:International Day of Remembrance of the Slave Trade and it's Abolition
DESCRIPTION:  \n\n\n\nThe International Day of Remembrance of the Slave Trade and it’s Abolition is an international day celebrated 23 August of each year\, the day designated by UNESCO to memorialize the transatlantic slave trade.
URL:https://wellbeings.org/event/international-day-of-remembrance-of-the-slave-trade-and-its-abolition/2028-08-23/
CATEGORIES:Dates to Remember
END:VEVENT
BEGIN:VEVENT
DTSTART;TZID=America/New_York:20290823T000000
DTEND;TZID=America/New_York:20290823T235959
DTSTAMP:20260422T170603
CREATED:20250805T173514Z
LAST-MODIFIED:20260108T222252Z
UID:10000480-1882137600-1882223999@wellbeings.org
SUMMARY:International Day of Remembrance of the Slave Trade and it's Abolition
DESCRIPTION:  \n\n\n\nThe International Day of Remembrance of the Slave Trade and it’s Abolition is an international day celebrated 23 August of each year\, the day designated by UNESCO to memorialize the transatlantic slave trade.
URL:https://wellbeings.org/event/international-day-of-remembrance-of-the-slave-trade-and-its-abolition/2029-08-23/
CATEGORIES:Dates to Remember
END:VEVENT
BEGIN:VEVENT
DTSTART;TZID=America/New_York:20300823T000000
DTEND;TZID=America/New_York:20300823T235959
DTSTAMP:20260422T170603
CREATED:20250805T173514Z
LAST-MODIFIED:20260108T222252Z
UID:10000481-1913673600-1913759999@wellbeings.org
SUMMARY:International Day of Remembrance of the Slave Trade and it's Abolition
DESCRIPTION:  \n\n\n\nThe International Day of Remembrance of the Slave Trade and it’s Abolition is an international day celebrated 23 August of each year\, the day designated by UNESCO to memorialize the transatlantic slave trade.
URL:https://wellbeings.org/event/international-day-of-remembrance-of-the-slave-trade-and-its-abolition/2030-08-23/
CATEGORIES:Dates to Remember
END:VEVENT
END:VCALENDAR