BEGIN:VCALENDAR
VERSION:2.0
PRODID:-//Well Beings - ECPv6.15.17.1//NONSGML v1.0//EN
CALSCALE:GREGORIAN
METHOD:PUBLISH
X-WR-CALNAME:Well Beings
X-ORIGINAL-URL:https://wellbeings.org
X-WR-CALDESC:Events for Well Beings
REFRESH-INTERVAL;VALUE=DURATION:PT1H
X-Robots-Tag:noindex
X-PUBLISHED-TTL:PT1H
BEGIN:VTIMEZONE
TZID:America/New_York
BEGIN:DAYLIGHT
TZOFFSETFROM:-0500
TZOFFSETTO:-0400
TZNAME:EDT
DTSTART:20250309T070000
END:DAYLIGHT
BEGIN:STANDARD
TZOFFSETFROM:-0400
TZOFFSETTO:-0500
TZNAME:EST
DTSTART:20251102T060000
END:STANDARD
BEGIN:DAYLIGHT
TZOFFSETFROM:-0500
TZOFFSETTO:-0400
TZNAME:EDT
DTSTART:20260308T070000
END:DAYLIGHT
BEGIN:STANDARD
TZOFFSETFROM:-0400
TZOFFSETTO:-0500
TZNAME:EST
DTSTART:20261101T060000
END:STANDARD
BEGIN:DAYLIGHT
TZOFFSETFROM:-0500
TZOFFSETTO:-0400
TZNAME:EDT
DTSTART:20270314T070000
END:DAYLIGHT
BEGIN:STANDARD
TZOFFSETFROM:-0400
TZOFFSETTO:-0500
TZNAME:EST
DTSTART:20271107T060000
END:STANDARD
BEGIN:DAYLIGHT
TZOFFSETFROM:-0500
TZOFFSETTO:-0400
TZNAME:EDT
DTSTART:20280312T070000
END:DAYLIGHT
BEGIN:STANDARD
TZOFFSETFROM:-0400
TZOFFSETTO:-0500
TZNAME:EST
DTSTART:20281105T060000
END:STANDARD
BEGIN:DAYLIGHT
TZOFFSETFROM:-0500
TZOFFSETTO:-0400
TZNAME:EDT
DTSTART:20290311T070000
END:DAYLIGHT
BEGIN:STANDARD
TZOFFSETFROM:-0400
TZOFFSETTO:-0500
TZNAME:EST
DTSTART:20291104T060000
END:STANDARD
BEGIN:DAYLIGHT
TZOFFSETFROM:-0500
TZOFFSETTO:-0400
TZNAME:EDT
DTSTART:20300310T070000
END:DAYLIGHT
BEGIN:STANDARD
TZOFFSETFROM:-0400
TZOFFSETTO:-0500
TZNAME:EST
DTSTART:20301103T060000
END:STANDARD
BEGIN:DAYLIGHT
TZOFFSETFROM:-0500
TZOFFSETTO:-0400
TZNAME:EDT
DTSTART:20310309T070000
END:DAYLIGHT
BEGIN:STANDARD
TZOFFSETFROM:-0400
TZOFFSETTO:-0500
TZNAME:EST
DTSTART:20311102T060000
END:STANDARD
END:VTIMEZONE
BEGIN:VEVENT
DTSTART;TZID=America/New_York:20260512T000000
DTEND;TZID=America/New_York:20260512T235959
DTSTAMP:20260425T074120
CREATED:20250506T193835Z
LAST-MODIFIED:20260108T153135Z
UID:10000312-1778544000-1778630399@wellbeings.org
SUMMARY:Fibromyalgia Awareness Day
DESCRIPTION:Fibromyalgia Awareness Day\, observed annually on May 12th\, is a global initiative dedicated to increasing understanding and recognition of fibromyalgia\, a complex chronic pain condition. This day aims to shine a light on the multifaceted challenges faced by millions living with the disorder\, while also advocating for improved care\, support\, and research.  
URL:https://wellbeings.org/event/fibromyalgia-awareness-day/2026-05-12/
CATEGORIES:Dates to Remember
END:VEVENT
BEGIN:VEVENT
DTSTART;TZID=America/New_York:20270512T000000
DTEND;TZID=America/New_York:20270512T235959
DTSTAMP:20260425T074120
CREATED:20250506T193835Z
LAST-MODIFIED:20260108T153135Z
UID:10000313-1810080000-1810166399@wellbeings.org
SUMMARY:Fibromyalgia Awareness Day
DESCRIPTION:Fibromyalgia Awareness Day\, observed annually on May 12th\, is a global initiative dedicated to increasing understanding and recognition of fibromyalgia\, a complex chronic pain condition. This day aims to shine a light on the multifaceted challenges faced by millions living with the disorder\, while also advocating for improved care\, support\, and research.  
URL:https://wellbeings.org/event/fibromyalgia-awareness-day/2027-05-12/
CATEGORIES:Dates to Remember
END:VEVENT
BEGIN:VEVENT
DTSTART;TZID=America/New_York:20280512T000000
DTEND;TZID=America/New_York:20280512T235959
DTSTAMP:20260425T074120
CREATED:20250506T193835Z
LAST-MODIFIED:20260108T153135Z
UID:10000314-1841702400-1841788799@wellbeings.org
SUMMARY:Fibromyalgia Awareness Day
DESCRIPTION:Fibromyalgia Awareness Day\, observed annually on May 12th\, is a global initiative dedicated to increasing understanding and recognition of fibromyalgia\, a complex chronic pain condition. This day aims to shine a light on the multifaceted challenges faced by millions living with the disorder\, while also advocating for improved care\, support\, and research.  
URL:https://wellbeings.org/event/fibromyalgia-awareness-day/2028-05-12/
CATEGORIES:Dates to Remember
END:VEVENT
BEGIN:VEVENT
DTSTART;TZID=America/New_York:20290512T000000
DTEND;TZID=America/New_York:20290512T235959
DTSTAMP:20260425T074120
CREATED:20250506T193835Z
LAST-MODIFIED:20260108T153135Z
UID:10000315-1873238400-1873324799@wellbeings.org
SUMMARY:Fibromyalgia Awareness Day
DESCRIPTION:Fibromyalgia Awareness Day\, observed annually on May 12th\, is a global initiative dedicated to increasing understanding and recognition of fibromyalgia\, a complex chronic pain condition. This day aims to shine a light on the multifaceted challenges faced by millions living with the disorder\, while also advocating for improved care\, support\, and research.  
URL:https://wellbeings.org/event/fibromyalgia-awareness-day/2029-05-12/
CATEGORIES:Dates to Remember
END:VEVENT
BEGIN:VEVENT
DTSTART;TZID=America/New_York:20300512T000000
DTEND;TZID=America/New_York:20300512T235959
DTSTAMP:20260425T074120
CREATED:20250506T193835Z
LAST-MODIFIED:20260108T153135Z
UID:10000316-1904774400-1904860799@wellbeings.org
SUMMARY:Fibromyalgia Awareness Day
DESCRIPTION:Fibromyalgia Awareness Day\, observed annually on May 12th\, is a global initiative dedicated to increasing understanding and recognition of fibromyalgia\, a complex chronic pain condition. This day aims to shine a light on the multifaceted challenges faced by millions living with the disorder\, while also advocating for improved care\, support\, and research.  
URL:https://wellbeings.org/event/fibromyalgia-awareness-day/2030-05-12/
CATEGORIES:Dates to Remember
END:VEVENT
END:VCALENDAR