BEGIN:VCALENDAR
VERSION:2.0
PRODID:-//Well Beings - ECPv6.15.17.1//NONSGML v1.0//EN
CALSCALE:GREGORIAN
METHOD:PUBLISH
X-WR-CALNAME:Well Beings
X-ORIGINAL-URL:https://wellbeings.org
X-WR-CALDESC:Events for Well Beings
REFRESH-INTERVAL;VALUE=DURATION:PT1H
X-Robots-Tag:noindex
X-PUBLISHED-TTL:PT1H
BEGIN:VTIMEZONE
TZID:America/New_York
BEGIN:DAYLIGHT
TZOFFSETFROM:-0500
TZOFFSETTO:-0400
TZNAME:EDT
DTSTART:20250309T070000
END:DAYLIGHT
BEGIN:STANDARD
TZOFFSETFROM:-0400
TZOFFSETTO:-0500
TZNAME:EST
DTSTART:20251102T060000
END:STANDARD
BEGIN:DAYLIGHT
TZOFFSETFROM:-0500
TZOFFSETTO:-0400
TZNAME:EDT
DTSTART:20260308T070000
END:DAYLIGHT
BEGIN:STANDARD
TZOFFSETFROM:-0400
TZOFFSETTO:-0500
TZNAME:EST
DTSTART:20261101T060000
END:STANDARD
BEGIN:DAYLIGHT
TZOFFSETFROM:-0500
TZOFFSETTO:-0400
TZNAME:EDT
DTSTART:20270314T070000
END:DAYLIGHT
BEGIN:STANDARD
TZOFFSETFROM:-0400
TZOFFSETTO:-0500
TZNAME:EST
DTSTART:20271107T060000
END:STANDARD
END:VTIMEZONE
BEGIN:VEVENT
DTSTART;TZID=America/New_York:20260420T120000
DTEND;TZID=America/New_York:20260420T123000
DTSTAMP:20260420T115058
CREATED:20260403T213935Z
LAST-MODIFIED:20260413T163944Z
UID:10003681-1776686400-1776688200@wellbeings.org
SUMMARY:The Secrets for Healthier Skin
DESCRIPTION:Learn top skincare tips from a dermatologist to help you achieve healthier\, more radiant skin. Whether you’re struggling with acne\, dryness\, signs of aging\, or simply want to maintain a natural glow\, this session is designed to give you expert guidance you can trust.
URL:https://wellbeings.org/event/the-secrets-for-healthier-skin/
CATEGORIES:Webinars
ATTACH;FMTTYPE=image/png:https://wellbeings.org/wp-content/uploads/2026/04/kaiser-healthyskin-e1775252416663.png
END:VEVENT
BEGIN:VEVENT
DTSTART;TZID=America/New_York:20260421T130000
DTEND;TZID=America/New_York:20260421T170000
DTSTAMP:20260420T115058
CREATED:20260323T151822Z
LAST-MODIFIED:20260406T232255Z
UID:10003678-1776776400-1776790800@wellbeings.org
SUMMARY:Managing Physical Stress and Occupational Hazards in Agricultural Labor
DESCRIPTION:Part 1: Managing physical stress and occupational hazards in agricultural labor\n\n\n\nJoin us for this free\, 60-minute session where we will: \n\n\n\n\nIdentify how environmental stressors affect the minds and bodies of agricultural workers.\n\n\n\nDiscuss the mental pressure to work through injury or illness to support families.\n\n\n\nUnderstand the cumulative impact of environmental stressors\, such as heat\, pesticide exposure\, and substandard housing\, on mental clarity.\n\n\n\nExplore tools to help workers identify physical tension before it leads to burnout or injury.\n\n\n\n\nCheck out Part 2: Overcoming isolation and mental health barriers for agricultural workers
URL:https://wellbeings.org/event/managing-physical-stress-and-occupational-hazards-in-agricultural-labor/
CATEGORIES:Webinars
ATTACH;FMTTYPE=image/jpeg:https://wellbeings.org/wp-content/uploads/2026/03/rural-webinar-1024x683-1-e1775517760811.jpg
END:VEVENT
BEGIN:VEVENT
DTSTART;TZID=America/New_York:20260423T130000
DTEND;TZID=America/New_York:20260423T140000
DTSTAMP:20260420T115058
CREATED:20260323T201043Z
LAST-MODIFIED:20260323T201044Z
UID:10003679-1776949200-1776952800@wellbeings.org
SUMMARY:Managing Physical Stress and Occupational Hazards in Agricultural Labor - Pt. 2
DESCRIPTION:Agricultural stress and mental health series \n\n\n\nThis two-part webinar series for Stress Awareness Month will address the unique psychological and physical pressures faced by agricultural workers. We will explore the intersection of labor-intensive roles\, isolation\, and the weight many carry as family providers. \n\n\n\nPart 2: Overcoming isolation and mental health barriers for agricultural workers\n\n\n\nRegister for webinar \n\n\n\nJoin us for this free\, 60-minute session where we will: \n\n\n\n\nDiscuss the mental toll of agricultural work.\n\n\n\nAddress the emotional toll many agricultural and migrant workers face\, including legal status anxiety\, family separation\, and social isolation.\n\n\n\nReview how employers can provide mental and emotional support and ensure their workers’ safety.\n\n\n\nExplore support available for agricultural workers’ mental health.\n\n\n\n\nCheck out Part 1: Managing physical stress and occupational hazards in agricultural labor
URL:https://wellbeings.org/event/managing-physical-stress-and-occupational-hazards-in-agricultural-labor-pt-2/
CATEGORIES:Webinars
ATTACH;FMTTYPE=image/jpeg:https://wellbeings.org/wp-content/uploads/2026/03/rural-webinar-1024x683-1-e1775517760811.jpg
END:VEVENT
BEGIN:VEVENT
DTSTART;TZID=America/New_York:20260427T150000
DTEND;TZID=America/New_York:20260427T163000
DTSTAMP:20260420T115058
CREATED:20251201T173528Z
LAST-MODIFIED:20260311T162046Z
UID:10000227-1777302000-1777307400@wellbeings.org
SUMMARY:Connection Recovery Support Group - Virtual
DESCRIPTION:Join us at the Connection Recovery Support Group\, where we come together online to share stories\, offer advice\, and provide support for each \n\n\n\nConnection Recovery Support Group \n\n\n\nWelcome to our online Connection Recovery Support Group! Join us for a safe space where you can share your experiences\, struggles\, and successes with others who understand what you’re going through. Our group offers a supportive environment where you can connect with like-minded individuals\, gain valuable insights\, and receive encouragement on your journey to recovery. Whether you’re seeking advice\, a listening ear\, or simply some camaraderie\, our group is here for you. Come as you are and know that you are not alone. We look forward to connecting with you!
URL:https://wellbeings.org/event/connection-recovery-support-group-april-2026/
CATEGORIES:Webinars
ATTACH;FMTTYPE=image/jpeg:https://wellbeings.org/wp-content/uploads/2025/12/nami-recovery-support-group-e1764611909954.jpg
ORGANIZER;CN="NAMI":MAILTO:info@nami.org
END:VEVENT
BEGIN:VEVENT
DTSTART;TZID=America/New_York:20260429T120000
DTEND;TZID=America/New_York:20260429T130000
DTSTAMP:20260420T115058
CREATED:20260413T201643Z
LAST-MODIFIED:20260413T201645Z
UID:10003772-1777464000-1777467600@wellbeings.org
SUMMARY:Live Author Q&A about Kids & OCD
DESCRIPTION:What do you do when your child has a “tricky\, sticky\, picky” brain—one that pushes them to repeat rituals or worry nonstop about making the “right” choice? \n\n\n\nJoin us on Wednesday\, April 29\, for a free\, live Q&A with Marni L. Jacob\, PhD\, ABPP\, author of What to Do When You Have a Tricky\, Sticky\, Picky Brain: Cognitive Behavioral Strategies to Help Kids with Obsessive-Compulsive Disorder\, an engaging and comprehensive resource to help readers understand and effectively manage OCD.  \n\n\n\nThis book translates the gold-standard treatment—Cognitive Behavioral Therapy (CBT) with Exposure and Response Prevention (ERP)—into clear\, practical strategies tailored for children and teens with OCD\, while also incorporating the latest advances in research and clinical practice. \n\n\n\nIn this session\, participants will explore:\n\n\n\n\nPractical\, evidence-based tools that kids\, parents\, and clinicians can use\n\n\n\nCommon and lesser-known presentations of OCD\n\n\n\nDoubts\, barriers\, and resistance that often arise during treatment\n\n\n\nStrategies to build motivation and encourage follow-through\n\n\n\nRelatable guidance to help families navigate life with OCD\n\n\n\n\nWhat to Do When You Have a Tricky\, Sticky\, Picky Brain is a thorough\, accessible\, and empowering guide that helps young people regain a sense of control over OCD —while also serving as an invaluable resource for the parents\, educators\, and clinicians that support them.
URL:https://wellbeings.org/event/live-author-qa-about-kids-ocd/
CATEGORIES:Webinars
ATTACH;FMTTYPE=image/png:https://wellbeings.org/wp-content/uploads/2026/04/d8929838-d73b-43d1-833f-309032c29443.png
END:VEVENT
BEGIN:VEVENT
DTSTART;TZID=America/New_York:20260429T150000
DTEND;TZID=America/New_York:20260429T160000
DTSTAMP:20260420T115058
CREATED:20251208T174432Z
LAST-MODIFIED:20260311T162008Z
UID:10000234-1777474800-1777478400@wellbeings.org
SUMMARY:Webinar: Ask Nurse Linda
DESCRIPTION:Chat live with Linda Schultz\, Ph.D.\, CRRN\, a leader and provider of rehabilitation nursing for over 30 years\, and a friend of the Christopher & Dana Reeve Foundation for close to two decades. She blogs about health and wellness living with paralysis and answers your SCI-related healthcare questions. \n\n\n\nThis is designed not a one-sided lecture or a simple Q&A\, but rather a discussion among community members to connect and get the information they need\, The conversation may shift\, as we leave the option open to talking about whatever YOU want and need to hear. This event is FREE for everyone to attend. Live captioning and ASL interpretation will be available.
URL:https://wellbeings.org/event/webinar-ask-nurse-linda-5/
CATEGORIES:Webinars
ATTACH;FMTTYPE=image/png:https://wellbeings.org/wp-content/uploads/2025/12/CaregiverAN-commuinity.png
ORGANIZER;CN="Caregiver Action Network":MAILTO:info@caregiveraction.org
END:VEVENT
END:VCALENDAR