BEGIN:VCALENDAR
VERSION:2.0
PRODID:-//Well Beings - ECPv6.15.17.1//NONSGML v1.0//EN
CALSCALE:GREGORIAN
METHOD:PUBLISH
X-WR-CALNAME:Well Beings
X-ORIGINAL-URL:https://wellbeings.org
X-WR-CALDESC:Events for Well Beings
REFRESH-INTERVAL;VALUE=DURATION:PT1H
X-Robots-Tag:noindex
X-PUBLISHED-TTL:PT1H
BEGIN:VTIMEZONE
TZID:America/New_York
BEGIN:DAYLIGHT
TZOFFSETFROM:-0500
TZOFFSETTO:-0400
TZNAME:EDT
DTSTART:20250309T070000
END:DAYLIGHT
BEGIN:STANDARD
TZOFFSETFROM:-0400
TZOFFSETTO:-0500
TZNAME:EST
DTSTART:20251102T060000
END:STANDARD
BEGIN:DAYLIGHT
TZOFFSETFROM:-0500
TZOFFSETTO:-0400
TZNAME:EDT
DTSTART:20260308T070000
END:DAYLIGHT
BEGIN:STANDARD
TZOFFSETFROM:-0400
TZOFFSETTO:-0500
TZNAME:EST
DTSTART:20261101T060000
END:STANDARD
BEGIN:DAYLIGHT
TZOFFSETFROM:-0500
TZOFFSETTO:-0400
TZNAME:EDT
DTSTART:20270314T070000
END:DAYLIGHT
BEGIN:STANDARD
TZOFFSETFROM:-0400
TZOFFSETTO:-0500
TZNAME:EST
DTSTART:20271107T060000
END:STANDARD
END:VTIMEZONE
BEGIN:VEVENT
DTSTART;TZID=America/New_York:20260402T130000
DTEND;TZID=America/New_York:20260402T140000
DTSTAMP:20260421T150403
CREATED:20260312T175244Z
LAST-MODIFIED:20260323T145902Z
UID:10003561-1775134800-1775138400@wellbeings.org
SUMMARY:The 2026 Mental Health Month Kickoff
DESCRIPTION:Get ready to celebrate Mental Health Month with us! Since founding Mental Health Month (also known as Mental Health Awareness Month) in 1949\, Mental Health America (MHA) has led the nationwide effort every May to promote mental wellness. This year\, we are on a mission to help people have more good days\, together. \n\n\n\nThis virtual event is designed to help you prepare for participating in Mental Health Month. We’ll highlight strategies for championing mental health in your community\, share new tools\, and provide ideas on meaningful ways to get involved. \n\n\n\nWhether you’re an educator\, advocate\, fundraiser\, or just hoping to improve your own mental health\, this event will give you a roadmap to feel ready! \n\n\n\nIn this free\, 60-minute session\, we will: \n\n\n\nEncourage ways to get involved: Learn about ways you can support Mental Health America’s mission\, whether it’s through participating in our Be Seen in Green Fundraiser\, joining our Strava challenge\, or hosting your own event supported by our materials. \n\n\n\nShare the More Good Days\, Together campaign: Get an exclusive first look at our new theme & opportunities to engage throughout the month of May. \n\n\n\nExplore new resources: Discover the latest tools from MHA’s Public Education team\, including our brand-new planning and action guides.
URL:https://wellbeings.org/event/the-2026-mental-health-month-kickoff/
CATEGORIES:Webinars
ATTACH;FMTTYPE=image/jpeg:https://wellbeings.org/wp-content/uploads/2026/03/MHM-2026-Banner-1024x512-1.jpg
END:VEVENT
END:VCALENDAR