BEGIN:VCALENDAR
VERSION:2.0
PRODID:-//Well Beings - ECPv6.15.17.1//NONSGML v1.0//EN
CALSCALE:GREGORIAN
METHOD:PUBLISH
X-ORIGINAL-URL:https://wellbeings.org
X-WR-CALDESC:Events for Well Beings
REFRESH-INTERVAL;VALUE=DURATION:PT1H
X-Robots-Tag:noindex
X-PUBLISHED-TTL:PT1H
BEGIN:VTIMEZONE
TZID:America/New_York
BEGIN:DAYLIGHT
TZOFFSETFROM:-0500
TZOFFSETTO:-0400
TZNAME:EDT
DTSTART:20250309T070000
END:DAYLIGHT
BEGIN:STANDARD
TZOFFSETFROM:-0400
TZOFFSETTO:-0500
TZNAME:EST
DTSTART:20251102T060000
END:STANDARD
BEGIN:DAYLIGHT
TZOFFSETFROM:-0500
TZOFFSETTO:-0400
TZNAME:EDT
DTSTART:20260308T070000
END:DAYLIGHT
BEGIN:STANDARD
TZOFFSETFROM:-0400
TZOFFSETTO:-0500
TZNAME:EST
DTSTART:20261101T060000
END:STANDARD
BEGIN:DAYLIGHT
TZOFFSETFROM:-0500
TZOFFSETTO:-0400
TZNAME:EDT
DTSTART:20270314T070000
END:DAYLIGHT
BEGIN:STANDARD
TZOFFSETFROM:-0400
TZOFFSETTO:-0500
TZNAME:EST
DTSTART:20271107T060000
END:STANDARD
END:VTIMEZONE
BEGIN:VEVENT
DTSTART;TZID=America/New_York:20260330T070000
DTEND;TZID=America/New_York:20260330T090000
DTSTAMP:20260425T090159
CREATED:20260211T162423Z
LAST-MODIFIED:20260320T155340Z
UID:10002776-1774854000-1774861200@wellbeings.org
SUMMARY:Global Virtual Screening of BrainStorm on World Bipolar Day
DESCRIPTION:Brainstorm Trailer\n\n\n\n\n\n\n\n\n\n \n\n\n\nJoin us for the first global virtual screening of our new documentary about the bipolar spectrum. This event includes watching the 74-minute film\, followed by a panel conversation featuring our filmmakers\, characters\, and bipolar experts\, as well as an audience Q&A. \n\n\n\nAll proceeds go to our nonprofit partners and to the production of additional films about bipolarity by the BrainStorm team.
URL:https://wellbeings.org/event/global-virtual-screening-of-brainstorm-on-world-bipolar-day/2026-03-30/1/
CATEGORIES:Webinars
ATTACH;FMTTYPE=image/jpeg:https://wellbeings.org/wp-content/uploads/2026/02/brainstorm-bipolarday.jpg
END:VEVENT
BEGIN:VEVENT
DTSTART;TZID=America/New_York:20260330T130000
DTEND;TZID=America/New_York:20260330T150000
DTSTAMP:20260425T090159
CREATED:20260211T162423Z
LAST-MODIFIED:20260320T155340Z
UID:10002777-1774875600-1774882800@wellbeings.org
SUMMARY:Global Virtual Screening of BrainStorm on World Bipolar Day
DESCRIPTION:Brainstorm Trailer\n\n\n\n\n\n\n\n\n\n \n\n\n\nJoin us for the first global virtual screening of our new documentary about the bipolar spectrum. This event includes watching the 74-minute film\, followed by a panel conversation featuring our filmmakers\, characters\, and bipolar experts\, as well as an audience Q&A. \n\n\n\nAll proceeds go to our nonprofit partners and to the production of additional films about bipolarity by the BrainStorm team.
URL:https://wellbeings.org/event/global-virtual-screening-of-brainstorm-on-world-bipolar-day/2026-03-30/2/
CATEGORIES:Webinars
ATTACH;FMTTYPE=image/jpeg:https://wellbeings.org/wp-content/uploads/2026/02/brainstorm-bipolarday.jpg
END:VEVENT
BEGIN:VEVENT
DTSTART;TZID=America/New_York:20260330T200000
DTEND;TZID=America/New_York:20260330T220000
DTSTAMP:20260425T090159
CREATED:20260211T162423Z
LAST-MODIFIED:20260320T155340Z
UID:10002778-1774900800-1774908000@wellbeings.org
SUMMARY:Global Virtual Screening of BrainStorm on World Bipolar Day
DESCRIPTION:Brainstorm Trailer\n\n\n\n\n\n\n\n\n\n \n\n\n\nJoin us for the first global virtual screening of our new documentary about the bipolar spectrum. This event includes watching the 74-minute film\, followed by a panel conversation featuring our filmmakers\, characters\, and bipolar experts\, as well as an audience Q&A. \n\n\n\nAll proceeds go to our nonprofit partners and to the production of additional films about bipolarity by the BrainStorm team.
URL:https://wellbeings.org/event/global-virtual-screening-of-brainstorm-on-world-bipolar-day/2026-03-30/3/
CATEGORIES:Webinars
ATTACH;FMTTYPE=image/jpeg:https://wellbeings.org/wp-content/uploads/2026/02/brainstorm-bipolarday.jpg
END:VEVENT
END:VCALENDAR