BEGIN:VCALENDAR
VERSION:2.0
PRODID:-//Well Beings - ECPv6.15.17.1//NONSGML v1.0//EN
CALSCALE:GREGORIAN
METHOD:PUBLISH
X-WR-CALNAME:Well Beings
X-ORIGINAL-URL:https://wellbeings.org
X-WR-CALDESC:Events for Well Beings
REFRESH-INTERVAL;VALUE=DURATION:PT1H
X-Robots-Tag:noindex
X-PUBLISHED-TTL:PT1H
BEGIN:VTIMEZONE
TZID:America/New_York
BEGIN:DAYLIGHT
TZOFFSETFROM:-0500
TZOFFSETTO:-0400
TZNAME:EDT
DTSTART:20250309T070000
END:DAYLIGHT
BEGIN:STANDARD
TZOFFSETFROM:-0400
TZOFFSETTO:-0500
TZNAME:EST
DTSTART:20251102T060000
END:STANDARD
BEGIN:DAYLIGHT
TZOFFSETFROM:-0500
TZOFFSETTO:-0400
TZNAME:EDT
DTSTART:20260308T070000
END:DAYLIGHT
BEGIN:STANDARD
TZOFFSETFROM:-0400
TZOFFSETTO:-0500
TZNAME:EST
DTSTART:20261101T060000
END:STANDARD
BEGIN:DAYLIGHT
TZOFFSETFROM:-0500
TZOFFSETTO:-0400
TZNAME:EDT
DTSTART:20270314T070000
END:DAYLIGHT
BEGIN:STANDARD
TZOFFSETFROM:-0400
TZOFFSETTO:-0500
TZNAME:EST
DTSTART:20271107T060000
END:STANDARD
BEGIN:DAYLIGHT
TZOFFSETFROM:-0500
TZOFFSETTO:-0400
TZNAME:EDT
DTSTART:20280312T070000
END:DAYLIGHT
BEGIN:STANDARD
TZOFFSETFROM:-0400
TZOFFSETTO:-0500
TZNAME:EST
DTSTART:20281105T060000
END:STANDARD
END:VTIMEZONE
BEGIN:VEVENT
DTSTART;TZID=America/New_York:20261201T000000
DTEND;TZID=America/New_York:20261201T235959
DTSTAMP:20260420T100635
CREATED:20260126T211929Z
LAST-MODIFIED:20260126T211931Z
UID:10002737-1796083200-1796169599@wellbeings.org
SUMMARY:National Learn a Foreign Language Month
DESCRIPTION:National Learn a Foreign Language Month is observed in December to encourage language learning as a way to build cultural understanding\, improve communication skills\, and support education and career development. The observance promotes multilingualism and includes outreach by educators\, learning platforms\, and cultural organizations. Language learning is also associated with cognitive benefits\, including memory and brain health.
URL:https://wellbeings.org/event/national-learn-a-foreign-language-month/2026-12-01/
CATEGORIES:Dates to Remember,Month-long Events
END:VEVENT
BEGIN:VEVENT
DTSTART;TZID=America/New_York:20270101T000000
DTEND;TZID=America/New_York:20270101T235959
DTSTAMP:20260420T100635
CREATED:20260106T192454Z
LAST-MODIFIED:20260115T194706Z
UID:10002645-1798761600-1798847999@wellbeings.org
SUMMARY:Mental Wellness Month
DESCRIPTION:Mental Wellness Month is a month‑long observance promoting emotional resilience\, stress management\, and proactive support for mental health through education and community engagement.
URL:https://wellbeings.org/event/mental-wellness-month/2027-01-01/
CATEGORIES:Dates to Remember,Month-long Events
END:VEVENT
BEGIN:VEVENT
DTSTART;TZID=America/New_York:20270101T000000
DTEND;TZID=America/New_York:20270101T235959
DTSTAMP:20260420T100635
CREATED:20260106T193110Z
LAST-MODIFIED:20260115T194323Z
UID:10002640-1798761600-1798847999@wellbeings.org
SUMMARY:Cervical Cancer Awareness Month
DESCRIPTION:Cervical Cancer (Cervical Health) Awareness Month focuses on prevention\, screening\, and HPV vaccination to reduce cervical cancer incidence and mortality.
URL:https://wellbeings.org/event/cervical-cancer-awareness-month/2027-01-01/
CATEGORIES:Dates to Remember,Month-long Events
END:VEVENT
BEGIN:VEVENT
DTSTART;TZID=America/New_York:20270101T000000
DTEND;TZID=America/New_York:20270101T235959
DTSTAMP:20260420T100635
CREATED:20260106T193223Z
LAST-MODIFIED:20260115T205147Z
UID:10002650-1798761600-1798847999@wellbeings.org
SUMMARY:National Birth Defects Awareness Month
DESCRIPTION:National Birth Defects Awareness Month highlights prevention\, early detection\, and support for individuals and families affected by birth defects.
URL:https://wellbeings.org/event/birth-defect-awareness-month/2027-01-01/
CATEGORIES:Dates to Remember,Month-long Events
END:VEVENT
BEGIN:VEVENT
DTSTART;TZID=America/New_York:20270101T000000
DTEND;TZID=America/New_York:20270101T235959
DTSTAMP:20260420T100635
CREATED:20260106T193423Z
LAST-MODIFIED:20260115T222211Z
UID:10002655-1798761600-1798847999@wellbeings.org
SUMMARY:National Thyroid Awareness Month
DESCRIPTION:Thyroid Awareness Month promotes understanding of thyroid disorders\, emphasizing early diagnosis and treatment of conditions such as hypothyroidism\, hyperthyroidism\, and thyroid cancer.
URL:https://wellbeings.org/event/national-thyroid-awareness-month/2027-01-01/
CATEGORIES:Dates to Remember,Month-long Events
END:VEVENT
BEGIN:VEVENT
DTSTART;TZID=America/New_York:20270101T000000
DTEND;TZID=America/New_York:20270101T235959
DTSTAMP:20260420T100635
CREATED:20260109T021240Z
LAST-MODIFIED:20260115T223956Z
UID:10002660-1798761600-1798847999@wellbeings.org
SUMMARY:American Heart Month
DESCRIPTION:American Heart Month is a U.S. health observance focused on raising awareness about cardiovascular disease\, the leading cause of death in the country. Established in 1964\, it promotes heart-healthy behaviors such as physical activity\, balanced nutrition\, and regular screenings. The month also highlights health disparities affecting heart disease outcomes.
URL:https://wellbeings.org/event/american-heart-month/2027-01-01/
CATEGORIES:Dates to Remember,Month-long Events
END:VEVENT
BEGIN:VEVENT
DTSTART;TZID=America/New_York:20270201T000000
DTEND;TZID=America/New_York:20270201T235959
DTSTAMP:20260420T100635
CREATED:20260109T022422Z
LAST-MODIFIED:20260306T141328Z
UID:10002665-1801440000-1801526399@wellbeings.org
SUMMARY:National Cancer Prevention Month
DESCRIPTION:National Cancer Prevention Month highlights evidence-based strategies to reduce cancer risk\, including lifestyle changes\, early detection\, and environmental protections. Observed annually in February\, it emphasizes prevention alongside treatment and survivorship. Public health agencies use the month to promote screenings and education.
URL:https://wellbeings.org/event/national-cancer-prevention-month/2027-02-01/
CATEGORIES:Dates to Remember,Month-long Events
END:VEVENT
BEGIN:VEVENT
DTSTART;TZID=America/New_York:20270201T000000
DTEND;TZID=America/New_York:20270201T235959
DTSTAMP:20260420T100635
CREATED:20260109T024237Z
LAST-MODIFIED:20260306T141347Z
UID:10002670-1801440000-1801526399@wellbeings.org
SUMMARY:National Self-Check Month
DESCRIPTION:National Self-Check Month encourages individuals to become familiar with their own bodies and health indicators in order to notice early warning signs of illness. The observance promotes routine self-exams and proactive health monitoring. It is often paired with education on when to seek professional medical care.
URL:https://wellbeings.org/event/national-self-check-month/2027-02-01/
CATEGORIES:Dates to Remember,Month-long Events
END:VEVENT
BEGIN:VEVENT
DTSTART;TZID=America/New_York:20270201T000000
DTEND;TZID=America/New_York:20270201T235959
DTSTAMP:20260420T100635
CREATED:20260202T214856Z
LAST-MODIFIED:20260202T214859Z
UID:10002758-1801440000-1801526399@wellbeings.org
SUMMARY:Black History Month
DESCRIPTION:Black History Month is observed annually in the United States in February to recognize and celebrate the achievements\, history\, and contributions of African Americans across all fields\, including politics\, science\, the arts\, culture\, and civil rights. Originating from Negro History Week\, founded by historian Carter G. Woodson in 1926\, the observance has grown into a nationwide month of education\, reflection\, and cultural programming. Each year features a national theme highlighting specific aspects of Black history and life.
URL:https://wellbeings.org/event/black-history-month-3/2027-02-01/
CATEGORIES:Dates to Remember,Month-long Events
END:VEVENT
BEGIN:VEVENT
DTSTART;TZID=America/New_York:20270201T000000
DTEND;TZID=America/New_York:20270201T235959
DTSTAMP:20260420T100635
CREATED:20260202T220714Z
LAST-MODIFIED:20260202T220716Z
UID:10002764-1801440000-1801526399@wellbeings.org
SUMMARY:National Senior Independence Month
DESCRIPTION:National Senior Independence Month is observed in February to highlight the importance of maintaining independence\, dignity\, and quality of life for older adults. The observance promotes resources that support aging in place\, mobility\, healthcare access\, and social connection. It also recognizes caregivers and community services that help seniors remain active and engaged.
URL:https://wellbeings.org/event/national-senior-independence-month-2/2027-02-01/
CATEGORIES:Dates to Remember,Month-long Events
END:VEVENT
BEGIN:VEVENT
DTSTART;TZID=America/New_York:20270201T000000
DTEND;TZID=America/New_York:20270201T235959
DTSTAMP:20260420T100635
CREATED:20260202T221828Z
LAST-MODIFIED:20260202T221831Z
UID:10002770-1801440000-1801526399@wellbeings.org
SUMMARY:AMD and Low Vision Awareness Month
DESCRIPTION:Age-Related Macular Degeneration (AMD) and Low Vision Awareness Month is observed in February to raise awareness about vision loss conditions that affect millions of people worldwide. The observance highlights risk factors\, early symptoms\, treatment options\, and adaptive strategies that support independence. It also encourages routine eye exams and research into vision-preserving therapies.
URL:https://wellbeings.org/event/amd-and-low-vision-awareness-month/2027-02-01/
CATEGORIES:Dates to Remember,Month-long Events
END:VEVENT
BEGIN:VEVENT
DTSTART;TZID=America/New_York:20270301T000000
DTEND;TZID=America/New_York:20270301T235900
DTSTAMP:20260420T100635
CREATED:20260309T202059Z
LAST-MODIFIED:20260311T190721Z
UID:10003546-1803859200-1803945540@wellbeings.org
SUMMARY:Expanding Girls' Horizons in Science & Engineering Month
DESCRIPTION:Encourages young women to pursue careers in STEM (Science\, Technology\, Engineering\, and Math) through mentorship and educational programs.
URL:https://wellbeings.org/event/expanding-girls-horizons-in-science-engineering-month/2027-03-01/
CATEGORIES:Dates to Remember,Month-long Events
END:VEVENT
BEGIN:VEVENT
DTSTART;TZID=America/New_York:20270301T000000
DTEND;TZID=America/New_York:20270301T235959
DTSTAMP:20260420T100635
CREATED:20260306T151248Z
LAST-MODIFIED:20260306T151324Z
UID:10003386-1803859200-1803945599@wellbeings.org
SUMMARY:National Endometriosis Awareness Month
DESCRIPTION:A campaign to raise awareness about endometriosis\, a condition affecting 1 in 10 women\, focusing on education\, research funding\, and support for those living with chronic pelvic pain.
URL:https://wellbeings.org/event/national-endometriosis-awareness-month/2027-03-01/
CATEGORIES:Dates to Remember,Month-long Events
END:VEVENT
BEGIN:VEVENT
DTSTART;TZID=America/New_York:20270301T000000
DTEND;TZID=America/New_York:20270301T235959
DTSTAMP:20260420T100635
CREATED:20260306T151414Z
LAST-MODIFIED:20260306T151415Z
UID:10003392-1803859200-1803945599@wellbeings.org
SUMMARY:Multiple Sclerosis Awareness Month
DESCRIPTION:Dedicated to raising awareness of MS\, an unpredictable disease of the central nervous system\, and supporting the community through advocacy and research for a cure.
URL:https://wellbeings.org/event/multiple-sclerosis-awareness-month/2027-03-01/
CATEGORIES:Dates to Remember,Month-long Events
END:VEVENT
BEGIN:VEVENT
DTSTART;TZID=America/New_York:20270301T000000
DTEND;TZID=America/New_York:20270301T235959
DTSTAMP:20260420T100635
CREATED:20260306T151453Z
LAST-MODIFIED:20260306T151454Z
UID:10003398-1803859200-1803945599@wellbeings.org
SUMMARY:National Kidney Month
DESCRIPTION:This National Kidney Month\, you have the power to create a future filled with clarity\, compassion and hope for everyone affect by kidney disease. With your generosity\, we’re able to: \n\n\n\nFund research and technology to advance early detection\, improve treatment\, and expand transplant access. \n\n\n\nEquip patients and families with knowledge\, resources\, and access to high-quality care. \n\n\n\nAdvocate for policies that address disparities and prioritize kidney health for all.
URL:https://wellbeings.org/event/national-kidney-month/2027-03-01/
CATEGORIES:Dates to Remember,Month-long Events
END:VEVENT
BEGIN:VEVENT
DTSTART;TZID=America/New_York:20270301T000000
DTEND;TZID=America/New_York:20270301T235959
DTSTAMP:20260420T100635
CREATED:20260306T151601Z
LAST-MODIFIED:20260306T151603Z
UID:10003404-1803859200-1803945599@wellbeings.org
SUMMARY:Colorectal Cancer Month
DESCRIPTION:Colorectal cancer is the deadliest cancer in people under 50 and the second deadliest overall.  \n\n\n\nThis March\, it’s time to say “Enough” and demand innovation that meets the scale of this disease. \n\n\n\nWe’ve had #EnoughCRC. Join the movement
URL:https://wellbeings.org/event/colorectal-cancer-month/2027-03-01/
CATEGORIES:Dates to Remember,Month-long Events
END:VEVENT
BEGIN:VEVENT
DTSTART;TZID=America/New_York:20270301T000000
DTEND;TZID=America/New_York:20270301T235959
DTSTAMP:20260420T100635
CREATED:20260306T151645Z
LAST-MODIFIED:20260306T151647Z
UID:10003410-1803859200-1803945599@wellbeings.org
SUMMARY:Brain Injury Awareness Month
DESCRIPTION:Every March\, the Brain Injury Association of America (BIAA) leads the nation in observing Brain Injury Awareness Month. This year\, we have exciting new developments for the brain injury community\, including new advocacy initiatives\, events\, fundraising opportunities\, and more.
URL:https://wellbeings.org/event/brain-injury-awareness-month/2027-03-01/
CATEGORIES:Dates to Remember,Month-long Events
END:VEVENT
BEGIN:VEVENT
DTSTART;TZID=America/New_York:20270301T000000
DTEND;TZID=America/New_York:20270301T235959
DTSTAMP:20260420T100635
CREATED:20260306T151719Z
LAST-MODIFIED:20260306T151720Z
UID:10003416-1803859200-1803945599@wellbeings.org
SUMMARY:Autoimmune Diseases Awareness Month
DESCRIPTION:March is Autoimmune Awareness Month. Together\, we’re shining a light on diseases that are too often misunderstood. Join us in raising awareness\, creating hope\, and driving progress toward better future.
URL:https://wellbeings.org/event/autoimmune-diseases-awareness-month/2027-03-01/
CATEGORIES:Dates to Remember,Month-long Events
END:VEVENT
BEGIN:VEVENT
DTSTART;TZID=America/New_York:20270301T000000
DTEND;TZID=America/New_York:20270301T235959
DTSTAMP:20260420T100635
CREATED:20260306T151757Z
LAST-MODIFIED:20260306T151758Z
UID:10003422-1803859200-1803945599@wellbeings.org
SUMMARY:Bleeding Disorders Awareness Month
DESCRIPTION:Formerly Hemophilia Awareness Month\, this observance was expanded to include all inheritable bleeding disorders to foster community and education.
URL:https://wellbeings.org/event/bleeding-disorders-awareness-month/2027-03-01/
CATEGORIES:Dates to Remember,Month-long Events
END:VEVENT
BEGIN:VEVENT
DTSTART;TZID=America/New_York:20270301T000000
DTEND;TZID=America/New_York:20270301T235959
DTSTAMP:20260420T100635
CREATED:20260306T151834Z
LAST-MODIFIED:20260306T151837Z
UID:10003428-1803859200-1803945599@wellbeings.org
SUMMARY:Myeloma Action Month
DESCRIPTION:Multiple myeloma blood cancer is reported to affect more than 176\,000 people worldwide each year. However\, this number likely underestimates the true impact of the disease. In many parts of the world\, myeloma is underdiagnosed or not consistently reported. \n\n\n\nMyeloma is the 2nd most common blood cancer\, but awareness remains low. Together\, we can change that. \n\n\n\nEvery March\, people around the world come together for Myeloma Action Month to raise awareness\, inspire action\, and amplify the voices of those impacted by multiple myeloma. \n\n\n\nMyeloma Action Month is about the people\, families\, care partners\, health professionals\, and communities who refuse to be defined by myeloma. \n\n\n\nThis March\, let’s show the world what makes us #MoreThanMyeloma
URL:https://wellbeings.org/event/myeloma-action-month/2027-03-01/
CATEGORIES:Dates to Remember,Month-long Events
END:VEVENT
BEGIN:VEVENT
DTSTART;TZID=America/New_York:20270301T000000
DTEND;TZID=America/New_York:20270301T235959
DTSTAMP:20260420T100635
CREATED:20260310T122837Z
LAST-MODIFIED:20260310T172709Z
UID:10003499-1803859200-1803945599@wellbeings.org
SUMMARY:National Nutrition Month
DESCRIPTION:An annual nutrition education campaign created by the Academy of Nutrition and Dietetics to help people make informed food choices.
URL:https://wellbeings.org/event/national-nutrition-month/2027-03-01/
CATEGORIES:Dates to Remember,Month-long Events
END:VEVENT
BEGIN:VEVENT
DTSTART;TZID=America/New_York:20270301T000000
DTEND;TZID=America/New_York:20270301T235959
DTSTAMP:20260420T100635
CREATED:20260310T123045Z
LAST-MODIFIED:20260310T172813Z
UID:10003504-1803859200-1803945599@wellbeings.org
SUMMARY:Self-Harm Awareness Month
DESCRIPTION:A month dedicated to ending the silence and stigma surrounding self-injury\, encouraging healthy coping mechanisms and professional help.
URL:https://wellbeings.org/event/self-harm-awareness-month/2027-03-01/
CATEGORIES:Dates to Remember,Month-long Events
END:VEVENT
BEGIN:VEVENT
DTSTART;TZID=America/New_York:20270301T000000
DTEND;TZID=America/New_York:20270301T235959
DTSTAMP:20260420T100635
CREATED:20260310T123621Z
LAST-MODIFIED:20260310T172903Z
UID:10003509-1803859200-1803945599@wellbeings.org
SUMMARY:National Social Worker's Month
DESCRIPTION:Recognizes the dedication of social workers who help millions of people overcome life’s hurdles and improve their well-being.
URL:https://wellbeings.org/event/national-social-workers-month/2027-03-01/
CATEGORIES:Dates to Remember,Month-long Events
END:VEVENT
BEGIN:VEVENT
DTSTART;TZID=America/New_York:20270301T000000
DTEND;TZID=America/New_York:20270301T235959
DTSTAMP:20260420T100635
CREATED:20260310T123801Z
LAST-MODIFIED:20260311T190617Z
UID:10003541-1803859200-1803945599@wellbeings.org
SUMMARY:American Red Cross Month
DESCRIPTION:A tradition since 1943\, this month honors the “Red Cross Volunteers” who provide disaster relief\, blood donations\, and support to military families.
URL:https://wellbeings.org/event/american-red-cross-month/2027-03-01/
CATEGORIES:Dates to Remember,Month-long Events
END:VEVENT
BEGIN:VEVENT
DTSTART;TZID=America/New_York:20270301T000000
DTEND;TZID=America/New_York:20270301T235959
DTSTAMP:20260420T100635
CREATED:20260310T124042Z
LAST-MODIFIED:20260310T173001Z
UID:10003514-1803859200-1803945599@wellbeings.org
SUMMARY:Women's History Month
DESCRIPTION:A month-long celebration of women’s contributions to history\, culture\, and society\, recognizing those who have paved the way for future generations.
URL:https://wellbeings.org/event/womens-history-month/2027-03-01/
CATEGORIES:Dates to Remember,Month-long Events
END:VEVENT
BEGIN:VEVENT
DTSTART;TZID=America/New_York:20270301T000000
DTEND;TZID=America/New_York:20270301T235959
DTSTAMP:20260420T100635
CREATED:20260310T124321Z
LAST-MODIFIED:20260310T173231Z
UID:10003529-1803859200-1803945599@wellbeings.org
SUMMARY:National Developmental Disabilities Awareness Month
DESCRIPTION:Focuses on the importance of inclusion and the contributions that people with developmental disabilities make to their communities.
URL:https://wellbeings.org/event/national-developmental-disabilities-awareness-month/2027-03-01/
CATEGORIES:Dates to Remember,Month-long Events
END:VEVENT
BEGIN:VEVENT
DTSTART;TZID=America/New_York:20270301T000000
DTEND;TZID=America/New_York:20270301T235959
DTSTAMP:20260420T100635
CREATED:20260310T124724Z
LAST-MODIFIED:20260310T173053Z
UID:10003519-1803859200-1803945599@wellbeings.org
SUMMARY:Gender Equality Month
DESCRIPTION:A time to reflect on the progress made toward gender equality and to advocate for the elimination of discrimination and bias in all sectors of life.
URL:https://wellbeings.org/event/gender-equality-month/2027-03-01/
CATEGORIES:Dates to Remember,Month-long Events
END:VEVENT
BEGIN:VEVENT
DTSTART;TZID=America/New_York:20270301T000000
DTEND;TZID=America/New_York:20270301T235959
DTSTAMP:20260420T100635
CREATED:20260310T130020Z
LAST-MODIFIED:20260310T164237Z
UID:10003494-1803859200-1803945599@wellbeings.org
SUMMARY:National Deaf History Month
DESCRIPTION:Observed from March 13th to April 15th (but often recognized for the full month of March) to celebrate deaf history and the contributions of the deaf and hard-of-hearing community.
URL:https://wellbeings.org/event/national-deaf-history-month/2027-03-01/
CATEGORIES:Dates to Remember,Month-long Events
END:VEVENT
BEGIN:VEVENT
DTSTART;TZID=America/New_York:20270301T000000
DTEND;TZID=America/New_York:20270301T235959
DTSTAMP:20260420T100635
CREATED:20260310T130638Z
LAST-MODIFIED:20260310T173141Z
UID:10003524-1803859200-1803945599@wellbeings.org
SUMMARY:Bisexual Health Awareness Month
DESCRIPTION:#BiHealthMonth\, founded and led annually by the Bisexual Resource Center\, raises awareness about the bisexual+ (bi\, pansexual\, fluid\, queer\, etc.) community’s social\, economic and health disparities; advocates for resources; and inspires actions to improve bi+ people’s well-being.
URL:https://wellbeings.org/event/bisexual-health-awareness-month/2027-03-01/
CATEGORIES:Dates to Remember,Month-long Events
END:VEVENT
BEGIN:VEVENT
DTSTART;TZID=America/New_York:20270401T000000
DTEND;TZID=America/New_York:20270401T235959
DTSTAMP:20260420T100635
CREATED:20260312T180231Z
LAST-MODIFIED:20260312T204024Z
UID:10003619-1806537600-1806623999@wellbeings.org
SUMMARY:National Autism Acceptance Month
DESCRIPTION:While formerly known as “Awareness” month\, the shift to “Acceptance” emphasizes inclusion and appreciating the lived experiences of autistic individuals. It aims to move beyond simple recognition toward supporting neurodiversity in workplaces\, schools\, and communities.
URL:https://wellbeings.org/event/national-autism-acceptance-month/2027-04-01/
CATEGORIES:Dates to Remember,Month-long Events
END:VEVENT
END:VCALENDAR