BEGIN:VCALENDAR
VERSION:2.0
PRODID:-//Well Beings - ECPv6.15.17.1//NONSGML v1.0//EN
CALSCALE:GREGORIAN
METHOD:PUBLISH
X-WR-CALNAME:Well Beings
X-ORIGINAL-URL:https://wellbeings.org
X-WR-CALDESC:Events for Well Beings
REFRESH-INTERVAL;VALUE=DURATION:PT1H
X-Robots-Tag:noindex
X-PUBLISHED-TTL:PT1H
BEGIN:VTIMEZONE
TZID:America/New_York
BEGIN:DAYLIGHT
TZOFFSETFROM:-0500
TZOFFSETTO:-0400
TZNAME:EDT
DTSTART:20240310T070000
END:DAYLIGHT
BEGIN:STANDARD
TZOFFSETFROM:-0400
TZOFFSETTO:-0500
TZNAME:EST
DTSTART:20241103T060000
END:STANDARD
BEGIN:DAYLIGHT
TZOFFSETFROM:-0500
TZOFFSETTO:-0400
TZNAME:EDT
DTSTART:20250309T070000
END:DAYLIGHT
BEGIN:STANDARD
TZOFFSETFROM:-0400
TZOFFSETTO:-0500
TZNAME:EST
DTSTART:20251102T060000
END:STANDARD
BEGIN:DAYLIGHT
TZOFFSETFROM:-0500
TZOFFSETTO:-0400
TZNAME:EDT
DTSTART:20260308T070000
END:DAYLIGHT
BEGIN:STANDARD
TZOFFSETFROM:-0400
TZOFFSETTO:-0500
TZNAME:EST
DTSTART:20261101T060000
END:STANDARD
BEGIN:DAYLIGHT
TZOFFSETFROM:-0500
TZOFFSETTO:-0400
TZNAME:EDT
DTSTART:20270314T070000
END:DAYLIGHT
BEGIN:STANDARD
TZOFFSETFROM:-0400
TZOFFSETTO:-0500
TZNAME:EST
DTSTART:20271107T060000
END:STANDARD
END:VTIMEZONE
BEGIN:VEVENT
DTSTART;TZID=America/New_York:20250701T000000
DTEND;TZID=America/New_York:20250701T235959
DTSTAMP:20260420T102432
CREATED:20250702T175712Z
LAST-MODIFIED:20260116T175442Z
UID:10000096-1751328000-1751414399@wellbeings.org
SUMMARY:Cord Blood Awareness Month
DESCRIPTION:This observance spotlights the life-saving potential of cord blood transplants\, which treat over 80 conditions\, including leukemia and genetic disorders.
URL:https://wellbeings.org/event/cord-blood-awareness-month/2025-07-01/
CATEGORIES:Dates to Remember,Month-long Events
END:VEVENT
BEGIN:VEVENT
DTSTART;TZID=America/New_York:20250701T000000
DTEND;TZID=America/New_York:20250701T235959
DTSTAMP:20260420T102432
CREATED:20250702T164920Z
LAST-MODIFIED:20260116T175313Z
UID:10000095-1751328000-1751414399@wellbeings.org
SUMMARY:Ultraviolet (UV) Safety Month
DESCRIPTION:July’s sun heightens UV exposure- making it key to reinforce safe sun practices\, build environments that support shade\, and regular skin checks.
URL:https://wellbeings.org/event/ultraviolet-uv-safety-month/2025-07-01/
CATEGORIES:Dates to Remember,Month-long Events
END:VEVENT
BEGIN:VEVENT
DTSTART;TZID=America/New_York:20250701T000000
DTEND;TZID=America/New_York:20250701T235959
DTSTAMP:20260420T102432
CREATED:20250702T164140Z
LAST-MODIFIED:20260116T175121Z
UID:10000094-1751328000-1751414399@wellbeings.org
SUMMARY:National Parks & Recreation Month
DESCRIPTION:This observance recognizes the vital role that parks and recreational spaces play in promoting community health\, wellness\, equity\, and environmental stewardship.
URL:https://wellbeings.org/event/national-parks-recreation-month/2025-07-01/
CATEGORIES:Dates to Remember,Month-long Events
END:VEVENT
BEGIN:VEVENT
DTSTART;TZID=America/New_York:20250701T000000
DTEND;TZID=America/New_York:20250701T235959
DTSTAMP:20260420T102432
CREATED:20250702T163438Z
LAST-MODIFIED:20260116T174947Z
UID:10000093-1751328000-1751414399@wellbeings.org
SUMMARY:National Minority Mental Health Awareness Month
DESCRIPTION:July\, designated in 2008\, honors Bebe Moore Campbell’s legacy and highlights mental health challenges faced by BIPOC communities\, including lower access to care and higher stigma.
URL:https://wellbeings.org/event/national-minority-mental-health-awareness-month/2025-07-01/
CATEGORIES:Dates to Remember,Month-long Events
END:VEVENT
BEGIN:VEVENT
DTSTART;TZID=America/New_York:20250801T000000
DTEND;TZID=America/New_York:20250801T235959
DTSTAMP:20260420T102432
CREATED:20250721T185725Z
LAST-MODIFIED:20260116T210412Z
UID:10000115-1754006400-1754092799@wellbeings.org
SUMMARY:Black Business Month
DESCRIPTION:National Black Business Month is celebrated every August to recognize and support Black-owned businesses in the United States. It was established in 2004 to highlight the contributions of Black entrepreneurs and the importance of their businesses to the economy and communities. The month serves as a reminder to uplift and empower Black business owners and address the challenges they face.
URL:https://wellbeings.org/event/black-business-month/2025-08-01/
CATEGORIES:Dates to Remember,Month-long Events
END:VEVENT
BEGIN:VEVENT
DTSTART;TZID=America/New_York:20250801T000000
DTEND;TZID=America/New_York:20250801T235959
DTSTAMP:20260420T102432
CREATED:20250721T185335Z
LAST-MODIFIED:20260116T210154Z
UID:10000114-1754006400-1754092799@wellbeings.org
SUMMARY:National Immunization Awareness Month
DESCRIPTION:National Immunization Awareness Month (NIAM) is an annual observance in August that highlights the importance of vaccination for people of all ages. It’s a time to remind everyone to talk to their healthcare provider about recommended vaccines and ensure they are up-to-date on their immunizations. This includes vaccinations for children\, adolescents\, adults\, and even pets.
URL:https://wellbeings.org/event/national-immunization-awareness-month/2025-08-01/
CATEGORIES:Dates to Remember,Month-long Events
END:VEVENT
BEGIN:VEVENT
DTSTART;TZID=America/New_York:20250801T000000
DTEND;TZID=America/New_York:20250801T235959
DTSTAMP:20260420T102432
CREATED:20250721T184213Z
LAST-MODIFIED:20260116T182638Z
UID:10000113-1754006400-1754092799@wellbeings.org
SUMMARY:National Breastfeeding Month
DESCRIPTION:National Breastfeeding Month is observed in August in the United States. This month is dedicated to promoting and supporting breastfeeding and raising awareness about its benefits for both mothers and babies. 
URL:https://wellbeings.org/event/national-breastfeeding-month/2025-08-01/
CATEGORIES:Dates to Remember,Month-long Events
END:VEVENT
BEGIN:VEVENT
DTSTART;TZID=America/New_York:20250801T000000
DTEND;TZID=America/New_York:20250808T235959
DTSTAMP:20260420T102432
CREATED:20250721T193655Z
LAST-MODIFIED:20260116T210845Z
UID:10000116-1754006400-1754697599@wellbeings.org
SUMMARY:Child Support Awareness Month
DESCRIPTION:August is officially recognized as Child Support Awareness Month in the United States. This month is dedicated to highlighting the importance of child support and celebrating the professionals who work to ensure children receive the financial and other support they need. It’s a time to acknowledge the role of child support in helping families and to promote awareness of the resources available. 
URL:https://wellbeings.org/event/child-support-awareness-month/2025-08-01/
CATEGORIES:Dates to Remember,Month-long Events
END:VEVENT
BEGIN:VEVENT
DTSTART;TZID=America/New_York:20250901T000000
DTEND;TZID=America/New_York:20250901T235959
DTSTAMP:20260420T102432
CREATED:20250815T181950Z
LAST-MODIFIED:20260116T220325Z
UID:10000151-1756684800-1756771199@wellbeings.org
SUMMARY:Polycystic Ovary Syndrome (PCOS) Awareness Month
DESCRIPTION:September is Polycystic Ovary Syndrome (PCOS) Awareness Month. This month is dedicated to raising awareness about PCOS\, a common hormonal disorder that affects women\, and to promoting education\, research\, and support for those living with the condition. 
URL:https://wellbeings.org/event/polycystic-ovary-syndrome-pcos-awareness-month/2025-09-01/
CATEGORIES:Dates to Remember,Month-long Events
END:VEVENT
BEGIN:VEVENT
DTSTART;TZID=America/New_York:20250901T000000
DTEND;TZID=America/New_York:20250901T235959
DTSTAMP:20260420T102432
CREATED:20250815T180210Z
LAST-MODIFIED:20260116T215924Z
UID:10000150-1756684800-1756771199@wellbeings.org
SUMMARY:National Sickle Cell Month
DESCRIPTION:Sickle cell anemia month is observed in September. This month aims to raise awareness about sickle cell disease\, a genetic blood disorder that affects millions of people worldwide. 
URL:https://wellbeings.org/event/national-sickle-cell-month/2025-09-01/
CATEGORIES:Dates to Remember,Month-long Events
END:VEVENT
BEGIN:VEVENT
DTSTART;TZID=America/New_York:20250901T000000
DTEND;TZID=America/New_York:20250901T235959
DTSTAMP:20260420T102432
CREATED:20250815T165141Z
LAST-MODIFIED:20260116T215832Z
UID:10000149-1756684800-1756771199@wellbeings.org
SUMMARY:National Sexual Health Awareness Month
DESCRIPTION:National Sexual Health Awareness Month is observed in September each year. It aims to promote sexual health education\, raise awareness about sexually transmitted infections (STIs)\, and encourage open and healthy conversations about sexuality. 
URL:https://wellbeings.org/event/national-sexual-health-awareness-month/2025-09-01/
CATEGORIES:Dates to Remember,Month-long Events
END:VEVENT
BEGIN:VEVENT
DTSTART;TZID=America/New_York:20250901T000000
DTEND;TZID=America/New_York:20250901T235959
DTSTAMP:20260420T102432
CREATED:20250815T164621Z
LAST-MODIFIED:20260116T215737Z
UID:10000148-1756684800-1756771199@wellbeings.org
SUMMARY:Healthy Aging Month
DESCRIPTION:September is designated as Healthy Aging Month\, a time to raise awareness about the positive aspects of growing older and encourage individuals to prioritize their well-being as they age. This observance focuses on physical\, mental\, social\, and financial well-being\, encouraging adults\, particularly those 45 and older\, to take steps to improve their overall health. 
URL:https://wellbeings.org/event/healthy-aging-month/2025-09-01/
CATEGORIES:Dates to Remember,Month-long Events
END:VEVENT
BEGIN:VEVENT
DTSTART;TZID=America/New_York:20250901T000000
DTEND;TZID=America/New_York:20250901T235959
DTSTAMP:20260420T102432
CREATED:20250815T164447Z
LAST-MODIFIED:20260116T215611Z
UID:10000147-1756684800-1756771199@wellbeings.org
SUMMARY:Ovarian Cancer Awareness Month
DESCRIPTION:Ovarian cancer awareness month is observed in September.  \n\n\n\nPurpose: \n\n\n\n\nRaise awareness about ovarian cancer\, the second most common gynecologic cancer in the United States. \n\n\n\nEducate women about the symptoms\, risk factors\, and early detection methods. \n\n\n\nSupport research and provide funding for treatments and cures. \n\n\n\n\nActivities:  \n\n\n\nGet screened for ovarian cancer\, especially if you have risk factors.  \n\n\n\nWear teal ribbons\, the color associated with ovarian cancer awareness. \n\n\n\nAttend events and fundraisers. \n\n\n\nShare information about ovarian cancer on social media.
URL:https://wellbeings.org/event/ovarian-cancer-awareness-month/2025-09-01/
CATEGORIES:Dates to Remember,Month-long Events
END:VEVENT
BEGIN:VEVENT
DTSTART;TZID=America/New_York:20251001T000000
DTEND;TZID=America/New_York:20251001T235959
DTSTAMP:20260420T102432
CREATED:20250904T155232Z
LAST-MODIFIED:20260116T220928Z
UID:10000178-1759276800-1759363199@wellbeings.org
SUMMARY:National Disability Employment Awareness Month
DESCRIPTION:National Disability Employment Awareness Month (NDEAM) is a nationwide observance held every October to celebrate the contributions of people with disabilities to the workforce and to highlight the importance of inclusive\, disability-friendly employment policies and practices. Each year\, the U.S. Department of Labor’s Office of Disability Employment Policy (ODEP) selects a theme to guide employers\, advocates\, and communities in their efforts to promote disability inclusion and support people with disabilities in achieving competitive\, gainful employment.
URL:https://wellbeings.org/event/national-disability-employment-awareness-month/2025-10-01/
CATEGORIES:Dates to Remember,Month-long Events
END:VEVENT
BEGIN:VEVENT
DTSTART;TZID=America/New_York:20251001T000000
DTEND;TZID=America/New_York:20251001T235959
DTSTAMP:20260420T102432
CREATED:20250904T154647Z
LAST-MODIFIED:20260116T220828Z
UID:10000177-1759276800-1759363199@wellbeings.org
SUMMARY:Health Literacy Month
DESCRIPTION:Health Literacy Month is observed annually in October. It is a time to raise awareness about the importance of health literacy\, which is the ability to access\, understand\, and use health information to make informed decisions about one’s health.
URL:https://wellbeings.org/event/health-literacy-month/2025-10-01/
CATEGORIES:Dates to Remember,Month-long Events
END:VEVENT
BEGIN:VEVENT
DTSTART;TZID=America/New_York:20251001T000000
DTEND;TZID=America/New_York:20251001T235959
DTSTAMP:20260420T102432
CREATED:20250904T154415Z
LAST-MODIFIED:20260116T220559Z
UID:10000176-1759276800-1759363199@wellbeings.org
SUMMARY:National Domestic Violence Awareness Month
DESCRIPTION:October is Domestic Violence Awareness Month. Each year\, in October\, advocates\, survivors and supporters recognize October as Domestic Violence Awareness Month (DVAM).
URL:https://wellbeings.org/event/national-domestic-violence-awareness-month/2025-10-01/
CATEGORIES:Dates to Remember,Month-long Events
END:VEVENT
BEGIN:VEVENT
DTSTART;TZID=America/New_York:20251001T000000
DTEND;TZID=America/New_York:20251008T235959
DTSTAMP:20260420T102432
CREATED:20250904T154145Z
LAST-MODIFIED:20260116T220458Z
UID:10000175-1759276800-1759967999@wellbeings.org
SUMMARY:National Breast Cancer Awareness Month
DESCRIPTION:Breast Cancer Awareness Month (BCAM) is a global campaign to raise awareness for breast cancer\, increase screenings\, and provide critical support for patients and survivors. Since 1989\, increased awareness through campaigns like BCAM has helped reduce breast cancer deaths in the United States by 44%.
URL:https://wellbeings.org/event/national-breast-cancer-awareness-month/2025-10-01/
CATEGORIES:Dates to Remember,Month-long Events
END:VEVENT
BEGIN:VEVENT
DTSTART;TZID=America/New_York:20251101T000000
DTEND;TZID=America/New_York:20251101T235959
DTSTAMP:20260420T102432
CREATED:20260121T160357Z
LAST-MODIFIED:20260121T160442Z
UID:10000594-1761955200-1762041599@wellbeings.org
SUMMARY:Native American Heritage Month
DESCRIPTION:Native American Heritage Month is celebrated every November to honor the rich cultures\, traditions\, and contributions of American Indian\, Alaska Native\, Native Hawaiian\, and other affiliated Island communities. Established by President George H. W. Bush in 1990\, the month is a time to celebrate indigenous history\, languages\, and accomplishments while raising awareness of the challenges these communities continue to face.
URL:https://wellbeings.org/event/native-american-heritage-month-2/2025-11-01/
CATEGORIES:Dates to Remember,Month-long Events
END:VEVENT
BEGIN:VEVENT
DTSTART;TZID=America/New_York:20251101T000000
DTEND;TZID=America/New_York:20251101T235959
DTSTAMP:20260420T102432
CREATED:20250904T165608Z
LAST-MODIFIED:20260121T163258Z
UID:10000188-1761955200-1762041599@wellbeings.org
SUMMARY:Lung Cancer Awareness Month
DESCRIPTION:Lung Cancer Awareness Month is observed annually in November. During this time\, organizations and individuals raise awareness about lung cancer\, promote early detection\, and support research efforts. 
URL:https://wellbeings.org/event/lung-cancer-awareness-month/2025-11-01/
CATEGORIES:Dates to Remember,Month-long Events
END:VEVENT
BEGIN:VEVENT
DTSTART;TZID=America/New_York:20251101T000000
DTEND;TZID=America/New_York:20251101T235959
DTSTAMP:20260420T102432
CREATED:20250904T165330Z
LAST-MODIFIED:20260121T163753Z
UID:10000187-1761955200-1762041599@wellbeings.org
SUMMARY:National Family Caregivers Month
DESCRIPTION:National Family Caregivers Month is an annual observance in November that recognizes and honors the millions of Americans who provide unpaid care for a loved one\, such as a parent\, child\, or other family member. The month highlights the profound sacrifices\, love\, and courage of family caregivers\, who often face significant physical\, emotional\, and financial burdens. Celebrated by organizations like the Caregiver Action Network (CAN)\, it is an opportunity to raise awareness\, educate communities\, and advocate for increased support for caregivers.
URL:https://wellbeings.org/event/national-family-caregivers-month/2025-11-01/
CATEGORIES:Dates to Remember,Month-long Events
END:VEVENT
BEGIN:VEVENT
DTSTART;TZID=America/New_York:20251101T000000
DTEND;TZID=America/New_York:20251101T235959
DTSTAMP:20260420T102432
CREATED:20250904T165142Z
LAST-MODIFIED:20260311T191258Z
UID:10000186-1761955200-1762041599@wellbeings.org
SUMMARY:National Diabetes Month
DESCRIPTION:November is National Diabetes Month\, a time when communities across the country seek to bring attention to diabetes. This year’s focus is on taking action to prevent diabetes health problems. \n\n\n\nDiabetes is a disease that occurs when your blood glucose\, also called blood sugar\, is too high. It affects about 38 million Americans\, including adults and youth. Diabetes can damage the eyes\, kidneys\, nerves\, and heart\, and it is linked to some types of cancer. \n\n\n\nBut there’s also good news: Taking charge of your health may help you prevent diabetes health problems.
URL:https://wellbeings.org/event/national-diabetes-month/2025-11-01/
CATEGORIES:Dates to Remember,Month-long Events
END:VEVENT
BEGIN:VEVENT
DTSTART;TZID=America/New_York:20251101T000000
DTEND;TZID=America/New_York:20251101T235959
DTSTAMP:20260420T102432
CREATED:20250904T164910Z
LAST-MODIFIED:20260121T161723Z
UID:10000185-1761955200-1762041599@wellbeings.org
SUMMARY:National Alzheimer's Disease Awareness Month
DESCRIPTION:National Alzheimer’s Disease Awareness Month is observed in November each year. This month is dedicated to raising awareness about Alzheimer’s disease\, a progressive brain disorder that affects memory\, thinking\, and behavior. 
URL:https://wellbeings.org/event/national-alzheimers-disease-awareness-month/2025-11-01/
CATEGORIES:Dates to Remember,Month-long Events
END:VEVENT
BEGIN:VEVENT
DTSTART;TZID=America/New_York:20251201T000000
DTEND;TZID=America/New_York:20251201T235959
DTSTAMP:20260420T102432
CREATED:20250904T170509Z
LAST-MODIFIED:20260115T144316Z
UID:10000189-1764547200-1764633599@wellbeings.org
SUMMARY:HIV Awareness Month
DESCRIPTION:HIV Awareness Month is observed in December in the United States. This month aims to raise awareness about HIV/AIDS\, educate the public about the virus\, and promote testing\, treatment\, and support for individuals living with HIV.
URL:https://wellbeings.org/event/hiv-awareness-month/
CATEGORIES:Month-long Events
END:VEVENT
BEGIN:VEVENT
DTSTART;TZID=America/New_York:20260101T000000
DTEND;TZID=America/New_York:20260101T235959
DTSTAMP:20260420T102432
CREATED:20260106T193423Z
LAST-MODIFIED:20260115T222211Z
UID:10000253-1767225600-1767311999@wellbeings.org
SUMMARY:National Thyroid Awareness Month
DESCRIPTION:Thyroid Awareness Month promotes understanding of thyroid disorders\, emphasizing early diagnosis and treatment of conditions such as hypothyroidism\, hyperthyroidism\, and thyroid cancer.
URL:https://wellbeings.org/event/national-thyroid-awareness-month/2026-01-01/
CATEGORIES:Dates to Remember,Month-long Events
END:VEVENT
BEGIN:VEVENT
DTSTART;TZID=America/New_York:20260101T000000
DTEND;TZID=America/New_York:20260101T235959
DTSTAMP:20260420T102432
CREATED:20260106T193223Z
LAST-MODIFIED:20260115T205147Z
UID:10000252-1767225600-1767311999@wellbeings.org
SUMMARY:National Birth Defects Awareness Month
DESCRIPTION:National Birth Defects Awareness Month highlights prevention\, early detection\, and support for individuals and families affected by birth defects.
URL:https://wellbeings.org/event/birth-defect-awareness-month/2026-01-01/
CATEGORIES:Dates to Remember,Month-long Events
END:VEVENT
BEGIN:VEVENT
DTSTART;TZID=America/New_York:20260101T000000
DTEND;TZID=America/New_York:20260101T235959
DTSTAMP:20260420T102432
CREATED:20260106T193110Z
LAST-MODIFIED:20260115T194323Z
UID:10000251-1767225600-1767311999@wellbeings.org
SUMMARY:Cervical Cancer Awareness Month
DESCRIPTION:Cervical Cancer (Cervical Health) Awareness Month focuses on prevention\, screening\, and HPV vaccination to reduce cervical cancer incidence and mortality.
URL:https://wellbeings.org/event/cervical-cancer-awareness-month/2026-01-01/
CATEGORIES:Dates to Remember,Month-long Events
END:VEVENT
BEGIN:VEVENT
DTSTART;TZID=America/New_York:20260101T000000
DTEND;TZID=America/New_York:20260101T235959
DTSTAMP:20260420T102432
CREATED:20260106T192850Z
LAST-MODIFIED:20260115T153645Z
UID:10000250-1767225600-1767311999@wellbeings.org
SUMMARY:National Blood Donor Month
DESCRIPTION:National Blood Donor Month raises awareness of the constant need for safe blood and celebrates voluntary donors who help maintain the blood supply\, especially during winter shortages.
URL:https://wellbeings.org/event/blood-donor-month/
CATEGORIES:Dates to Remember,Month-long Events
END:VEVENT
BEGIN:VEVENT
DTSTART;TZID=America/New_York:20260101T000000
DTEND;TZID=America/New_York:20260101T235959
DTSTAMP:20260420T102432
CREATED:20260106T192454Z
LAST-MODIFIED:20260115T194706Z
UID:10000249-1767225600-1767311999@wellbeings.org
SUMMARY:Mental Wellness Month
DESCRIPTION:Mental Wellness Month is a month‑long observance promoting emotional resilience\, stress management\, and proactive support for mental health through education and community engagement.
URL:https://wellbeings.org/event/mental-wellness-month/2026-01-01/
CATEGORIES:Dates to Remember,Month-long Events
END:VEVENT
BEGIN:VEVENT
DTSTART;TZID=America/New_York:20260126T000000
DTEND;TZID=America/New_York:20260126T235959
DTSTAMP:20260420T102432
CREATED:20260126T212350Z
LAST-MODIFIED:20260126T212351Z
UID:10002742-1769385600-1769471999@wellbeings.org
SUMMARY:Seasonal Depression Awareness Month
DESCRIPTION:Seasonal Depression Awareness Month is observed in December to increase awareness about Seasonal Affective Disorder (SAD) and other forms of mood changes linked to seasonal patterns and reduced daylight exposure. The month promotes education on symptoms\, treatment options\, and supportive strategies such as light therapy\, counseling\, and lifestyle adjustments. Awareness efforts also emphasize reducing stigma around depression and encouraging mental health care access.
URL:https://wellbeings.org/event/seasonal-depression-awareness-month/
CATEGORIES:Dates to Remember,Month-long Events
END:VEVENT
BEGIN:VEVENT
DTSTART;TZID=America/New_York:20260201T000000
DTEND;TZID=America/New_York:20260201T235959
DTSTAMP:20260420T102432
CREATED:20260202T221828Z
LAST-MODIFIED:20260202T221831Z
UID:10002769-1769904000-1769990399@wellbeings.org
SUMMARY:AMD and Low Vision Awareness Month
DESCRIPTION:Age-Related Macular Degeneration (AMD) and Low Vision Awareness Month is observed in February to raise awareness about vision loss conditions that affect millions of people worldwide. The observance highlights risk factors\, early symptoms\, treatment options\, and adaptive strategies that support independence. It also encourages routine eye exams and research into vision-preserving therapies.
URL:https://wellbeings.org/event/amd-and-low-vision-awareness-month/2026-02-01/
CATEGORIES:Dates to Remember,Month-long Events
END:VEVENT
END:VCALENDAR