BEGIN:VCALENDAR
VERSION:2.0
PRODID:-//Well Beings - ECPv6.15.17.1//NONSGML v1.0//EN
CALSCALE:GREGORIAN
METHOD:PUBLISH
X-ORIGINAL-URL:https://wellbeings.org
X-WR-CALDESC:Events for Well Beings
REFRESH-INTERVAL;VALUE=DURATION:PT1H
X-Robots-Tag:noindex
X-PUBLISHED-TTL:PT1H
BEGIN:VTIMEZONE
TZID:America/New_York
BEGIN:DAYLIGHT
TZOFFSETFROM:-0500
TZOFFSETTO:-0400
TZNAME:EDT
DTSTART:20250309T070000
END:DAYLIGHT
BEGIN:STANDARD
TZOFFSETFROM:-0400
TZOFFSETTO:-0500
TZNAME:EST
DTSTART:20251102T060000
END:STANDARD
BEGIN:DAYLIGHT
TZOFFSETFROM:-0500
TZOFFSETTO:-0400
TZNAME:EDT
DTSTART:20260308T070000
END:DAYLIGHT
BEGIN:STANDARD
TZOFFSETFROM:-0400
TZOFFSETTO:-0500
TZNAME:EST
DTSTART:20261101T060000
END:STANDARD
BEGIN:DAYLIGHT
TZOFFSETFROM:-0500
TZOFFSETTO:-0400
TZNAME:EDT
DTSTART:20270314T070000
END:DAYLIGHT
BEGIN:STANDARD
TZOFFSETFROM:-0400
TZOFFSETTO:-0500
TZNAME:EST
DTSTART:20271107T060000
END:STANDARD
BEGIN:DAYLIGHT
TZOFFSETFROM:-0500
TZOFFSETTO:-0400
TZNAME:EDT
DTSTART:20280312T070000
END:DAYLIGHT
BEGIN:STANDARD
TZOFFSETFROM:-0400
TZOFFSETTO:-0500
TZNAME:EST
DTSTART:20281105T060000
END:STANDARD
END:VTIMEZONE
BEGIN:VEVENT
DTSTART;TZID=America/New_York:20261101T000000
DTEND;TZID=America/New_York:20261101T225959
DTSTAMP:20260424T120146
CREATED:20250904T165330Z
LAST-MODIFIED:20260121T163753Z
UID:10000609-1793491200-1793573999@wellbeings.org
SUMMARY:National Family Caregivers Month
DESCRIPTION:National Family Caregivers Month is an annual observance in November that recognizes and honors the millions of Americans who provide unpaid care for a loved one\, such as a parent\, child\, or other family member. The month highlights the profound sacrifices\, love\, and courage of family caregivers\, who often face significant physical\, emotional\, and financial burdens. Celebrated by organizations like the Caregiver Action Network (CAN)\, it is an opportunity to raise awareness\, educate communities\, and advocate for increased support for caregivers.
URL:https://wellbeings.org/event/national-family-caregivers-month/2026-11-01/
CATEGORIES:Dates to Remember,Month-long Events
END:VEVENT
BEGIN:VEVENT
DTSTART;TZID=America/New_York:20261101T000000
DTEND;TZID=America/New_York:20261101T225959
DTSTAMP:20260424T120146
CREATED:20250904T165608Z
LAST-MODIFIED:20260121T163258Z
UID:10000614-1793491200-1793573999@wellbeings.org
SUMMARY:Lung Cancer Awareness Month
DESCRIPTION:Lung Cancer Awareness Month is observed annually in November. During this time\, organizations and individuals raise awareness about lung cancer\, promote early detection\, and support research efforts. 
URL:https://wellbeings.org/event/lung-cancer-awareness-month/2026-11-01/
CATEGORIES:Dates to Remember,Month-long Events
END:VEVENT
BEGIN:VEVENT
DTSTART;TZID=America/New_York:20261101T000000
DTEND;TZID=America/New_York:20261101T225959
DTSTAMP:20260424T120146
CREATED:20260121T160357Z
LAST-MODIFIED:20260121T160442Z
UID:10002695-1793491200-1793573999@wellbeings.org
SUMMARY:Native American Heritage Month
DESCRIPTION:Native American Heritage Month is celebrated every November to honor the rich cultures\, traditions\, and contributions of American Indian\, Alaska Native\, Native Hawaiian\, and other affiliated Island communities. Established by President George H. W. Bush in 1990\, the month is a time to celebrate indigenous history\, languages\, and accomplishments while raising awareness of the challenges these communities continue to face.
URL:https://wellbeings.org/event/native-american-heritage-month-2/2026-11-01/
CATEGORIES:Dates to Remember,Month-long Events
END:VEVENT
BEGIN:VEVENT
DTSTART;TZID=America/New_York:20261104T000000
DTEND;TZID=America/New_York:20261104T235959
DTSTAMP:20260424T120146
CREATED:20250818T203119Z
LAST-MODIFIED:20260109T000740Z
UID:10000625-1793750400-1793836799@wellbeings.org
SUMMARY:National Stress Awareness Day
DESCRIPTION:  \n\n\n\nNational Stress Awareness Day is observed annually on the first Wednesday of November.  \n\n\n\nThis day aims to raise awareness about the prevalence and impact of stress on mental and physical health. It encourages individuals to learn about stress management techniques\, seek support when needed\, and prioritize their well-being. 
URL:https://wellbeings.org/event/national-stress-awareness-day/2026-11-04/
CATEGORIES:Dates to Remember
END:VEVENT
BEGIN:VEVENT
DTSTART;TZID=America/New_York:20261104T000000
DTEND;TZID=America/New_York:20261108T235959
DTSTAMP:20260424T120146
CREATED:20250904T162553Z
LAST-MODIFIED:20260109T000001Z
UID:10000619-1793750400-1794182399@wellbeings.org
SUMMARY:International Stress Awareness Week
DESCRIPTION:International Stress Awareness Week (ISAW) is organized by the International Stress Management Association (ISMA) and promotes knowledge and best practices for stress management\, running for the first full week in November. The event\, which also features Stress Awareness Day on the first Wednesday in November\, aims to raise awareness of stress\, its effects on health\, and healthy coping methods while reducing the stigma surrounding mental health. 
URL:https://wellbeings.org/event/international-stress-awareness-week/2026-11-04/
CATEGORIES:Dates to Remember
END:VEVENT
BEGIN:VEVENT
DTSTART;TZID=America/New_York:20261113T000000
DTEND;TZID=America/New_York:20261113T235959
DTSTAMP:20260424T120146
CREATED:20250818T203440Z
LAST-MODIFIED:20260109T002904Z
UID:10000630-1794528000-1794614399@wellbeings.org
SUMMARY:World Kindness Day
DESCRIPTION:  \n\n\n\nWorld Kindness Day is an international observance on 13 November. It was introduced in 1998 by the World Kindness Movement\, a coalition of nations’ kindness NGOs. It is observed in many countries\, including Canada\, Australia\, Nigeria and the United Arab Emirates. Singapore observed the day for the first time in 2009.
URL:https://wellbeings.org/event/world-kindness-day/2026-11-13/
CATEGORIES:Dates to Remember
END:VEVENT
BEGIN:VEVENT
DTSTART;TZID=America/New_York:20261113T000000
DTEND;TZID=America/New_York:20261119T235959
DTSTAMP:20260424T120146
CREATED:20250904T163316Z
LAST-MODIFIED:20260109T003141Z
UID:10000635-1794528000-1795132799@wellbeings.org
SUMMARY:Transgender Awareness Week
DESCRIPTION:Each year between November 13 – 19\, people and organizations around the country participate in Transgender Awareness Week to help increase understanding about transgender people and the issues members of the community face. \n\n\n\nTrans Awareness Week takes place the week before Transgender Day of Remembrance on November 20. Transgender Day of Remembrance (TDOR)\, is an annual observance on November 20 that honors the memory of the transgender people whose lives were lost in acts of anti-transgender violence that year.
URL:https://wellbeings.org/event/transgender-awareness-week/2026-11-13/
CATEGORIES:Dates to Remember
END:VEVENT
BEGIN:VEVENT
DTSTART;TZID=America/New_York:20261119T000000
DTEND;TZID=America/New_York:20261119T235959
DTSTAMP:20260424T120146
CREATED:20250818T203823Z
LAST-MODIFIED:20260109T005336Z
UID:10000646-1795046400-1795132799@wellbeings.org
SUMMARY:National Rural Health Day
DESCRIPTION:  \n\n\n\nNational Rural Health Day is celebrated annually on the third Thursday in November. In 2025\, it will be observed on November 20. This day recognizes the unique healthcare needs of rural communities and the dedication of those who work to address them.  \n\n\n\nNational Rural Health Day is an initiative of the National Organization of State Offices of Rural Health (NOSORH). It aims to raise awareness about the challenges and disparities in rural healthcare and to celebrate the “Power of Rural”. 
URL:https://wellbeings.org/event/national-rural-health-day/2026-11-19/
CATEGORIES:Dates to Remember
END:VEVENT
BEGIN:VEVENT
DTSTART;TZID=America/New_York:20261120T000000
DTEND;TZID=America/New_York:20261120T235959
DTSTAMP:20260424T120146
CREATED:20250818T203625Z
LAST-MODIFIED:20260109T003710Z
UID:10000640-1795132800-1795219199@wellbeings.org
SUMMARY:Transgender Day of Remembrance
DESCRIPTION:  \n\n\n\nThe Transgender Day of Remembrance\, also known as the International Transgender Day of Remembrance\, has been observed annually from its inception on November 20 to memorialize those who have been murdered as a result of transphobia.
URL:https://wellbeings.org/event/transgender-day-of-remembrance/2026-11-20/
CATEGORIES:Dates to Remember
END:VEVENT
BEGIN:VEVENT
DTSTART;TZID=America/New_York:20261201T000000
DTEND;TZID=America/New_York:20261201T235959
DTSTAMP:20260424T120146
CREATED:20260121T164501Z
LAST-MODIFIED:20260121T164530Z
UID:10002707-1796083200-1796169599@wellbeings.org
SUMMARY:World AIDS Awareness Month
DESCRIPTION:World AIDS Awareness Month is observed in December to increase awareness of HIV/AIDS\, support people living with HIV\, and promote prevention and treatment education. The month highlights the global public health impact of HIV and the importance of testing\, stigma reduction\, and access to medication. Advocacy efforts often center on communities disproportionately affected by HIV and emphasize that treatment can enable long\, healthy lives and reduce transmission.
URL:https://wellbeings.org/event/world-aids-awareness-month/2026-12-01/
CATEGORIES:Dates to Remember,Month-long Events
END:VEVENT
BEGIN:VEVENT
DTSTART;TZID=America/New_York:20261201T000000
DTEND;TZID=America/New_York:20261201T235959
DTSTAMP:20260424T120146
CREATED:20260121T164848Z
LAST-MODIFIED:20260305T211348Z
UID:10002712-1796083200-1796169599@wellbeings.org
SUMMARY:National Giving Month
DESCRIPTION:National Giving Month is observed in December to encourage charitable giving\, volunteerism\, and community support during the holiday season. The observance highlights nonprofit organizations and social impact initiatives\, while promoting generosity through donations\, service\, and mutual aid. It reflects a cultural emphasis on gratitude and giving at year’s end and often includes fundraising campaigns and community drives.
URL:https://wellbeings.org/event/national-giving-month/2026-12-01/
CATEGORIES:Dates to Remember,Month-long Events
END:VEVENT
BEGIN:VEVENT
DTSTART;TZID=America/New_York:20261201T000000
DTEND;TZID=America/New_York:20261201T235959
DTSTAMP:20260424T120146
CREATED:20260123T210044Z
LAST-MODIFIED:20260123T220616Z
UID:10002717-1796083200-1796169599@wellbeings.org
SUMMARY:World AIDS Day
DESCRIPTION:World AIDS Day is observed annually on December 1 to raise awareness about HIV/AIDS\, honor those who have died from AIDS-related illness\, and support those living with HIV. Established in 1988\, it is one of the world’s longest-running global health campaigns. The day promotes prevention strategies\, encourages HIV testing\, and highlights advancements in treatment that allow many people with HIV to live long and healthy lives.
URL:https://wellbeings.org/event/world-aids-day-2/2026-12-01/
CATEGORIES:Dates to Remember
END:VEVENT
BEGIN:VEVENT
DTSTART;TZID=America/New_York:20261201T000000
DTEND;TZID=America/New_York:20261201T235959
DTSTAMP:20260424T120146
CREATED:20260126T210909Z
LAST-MODIFIED:20260126T210910Z
UID:10002727-1796083200-1796169599@wellbeings.org
SUMMARY:Universal Human Rights Month
DESCRIPTION:Universal Human Rights Month is recognized in December to honor the principles of human dignity\, freedom\, and equality as outlined in the Universal Declaration of Human Rights. Observances often align with Human Rights Day on December 10 and support education on civil liberties\, discrimination\, and global justice efforts. Organizations use the month to promote awareness and action related to human rights protection worldwide.
URL:https://wellbeings.org/event/universal-human-rights-month/2026-12-01/
CATEGORIES:Dates to Remember,Month-long Events
END:VEVENT
BEGIN:VEVENT
DTSTART;TZID=America/New_York:20261201T000000
DTEND;TZID=America/New_York:20261201T235959
DTSTAMP:20260424T120146
CREATED:20260126T211449Z
LAST-MODIFIED:20260126T211450Z
UID:10002732-1796083200-1796169599@wellbeings.org
SUMMARY:National Impaired Driving Prevention Month
DESCRIPTION:National Impaired Driving Prevention Month is observed in December to raise awareness about the dangers of driving under the influence of alcohol or drugs. The month highlights increased risks during holiday travel periods and promotes prevention strategies such as sober driving plans\, designated drivers\, and enforcement initiatives. Campaigns emphasize that impaired driving is preventable and that education can save lives.
URL:https://wellbeings.org/event/national-impaired-driving-prevention-month/2026-12-01/
CATEGORIES:Dates to Remember,Month-long Events
END:VEVENT
BEGIN:VEVENT
DTSTART;TZID=America/New_York:20261201T000000
DTEND;TZID=America/New_York:20261201T235959
DTSTAMP:20260424T120146
CREATED:20260126T211929Z
LAST-MODIFIED:20260126T211931Z
UID:10002737-1796083200-1796169599@wellbeings.org
SUMMARY:National Learn a Foreign Language Month
DESCRIPTION:National Learn a Foreign Language Month is observed in December to encourage language learning as a way to build cultural understanding\, improve communication skills\, and support education and career development. The observance promotes multilingualism and includes outreach by educators\, learning platforms\, and cultural organizations. Language learning is also associated with cognitive benefits\, including memory and brain health.
URL:https://wellbeings.org/event/national-learn-a-foreign-language-month/2026-12-01/
CATEGORIES:Dates to Remember,Month-long Events
END:VEVENT
BEGIN:VEVENT
DTSTART;TZID=America/New_York:20261202T000000
DTEND;TZID=America/New_York:20261202T235959
DTSTAMP:20260424T120146
CREATED:20250818T210535Z
LAST-MODIFIED:20260126T212845Z
UID:10002743-1796169600-1796255999@wellbeings.org
SUMMARY:National Special Education Day
DESCRIPTION:  \n\n\n\nNational Special Education Day is celebrated on December 2nd. It commemorates the anniversary of the signing of the Education for All Handicapped Children Act in 1975\, which was later renamed the Individuals with Disabilities Education Act (IDEA). This day recognizes the importance of providing equal educational opportunities for students with disabilities and celebrating the progress made in special education.
URL:https://wellbeings.org/event/national-special-education-day/2026-12-02/
CATEGORIES:Dates to Remember
END:VEVENT
BEGIN:VEVENT
DTSTART;TZID=America/New_York:20270101T000000
DTEND;TZID=America/New_York:20270101T235959
DTSTAMP:20260424T120146
CREATED:20260106T192454Z
LAST-MODIFIED:20260115T194706Z
UID:10002645-1798761600-1798847999@wellbeings.org
SUMMARY:Mental Wellness Month
DESCRIPTION:Mental Wellness Month is a month‑long observance promoting emotional resilience\, stress management\, and proactive support for mental health through education and community engagement.
URL:https://wellbeings.org/event/mental-wellness-month/2027-01-01/
CATEGORIES:Dates to Remember,Month-long Events
END:VEVENT
BEGIN:VEVENT
DTSTART;TZID=America/New_York:20270101T000000
DTEND;TZID=America/New_York:20270101T235959
DTSTAMP:20260424T120146
CREATED:20260106T193110Z
LAST-MODIFIED:20260115T194323Z
UID:10002640-1798761600-1798847999@wellbeings.org
SUMMARY:Cervical Cancer Awareness Month
DESCRIPTION:Cervical Cancer (Cervical Health) Awareness Month focuses on prevention\, screening\, and HPV vaccination to reduce cervical cancer incidence and mortality.
URL:https://wellbeings.org/event/cervical-cancer-awareness-month/2027-01-01/
CATEGORIES:Dates to Remember,Month-long Events
END:VEVENT
BEGIN:VEVENT
DTSTART;TZID=America/New_York:20270101T000000
DTEND;TZID=America/New_York:20270101T235959
DTSTAMP:20260424T120146
CREATED:20260106T193223Z
LAST-MODIFIED:20260115T205147Z
UID:10002650-1798761600-1798847999@wellbeings.org
SUMMARY:National Birth Defects Awareness Month
DESCRIPTION:National Birth Defects Awareness Month highlights prevention\, early detection\, and support for individuals and families affected by birth defects.
URL:https://wellbeings.org/event/birth-defect-awareness-month/2027-01-01/
CATEGORIES:Dates to Remember,Month-long Events
END:VEVENT
BEGIN:VEVENT
DTSTART;TZID=America/New_York:20270101T000000
DTEND;TZID=America/New_York:20270101T235959
DTSTAMP:20260424T120146
CREATED:20260106T193423Z
LAST-MODIFIED:20260115T222211Z
UID:10002655-1798761600-1798847999@wellbeings.org
SUMMARY:National Thyroid Awareness Month
DESCRIPTION:Thyroid Awareness Month promotes understanding of thyroid disorders\, emphasizing early diagnosis and treatment of conditions such as hypothyroidism\, hyperthyroidism\, and thyroid cancer.
URL:https://wellbeings.org/event/national-thyroid-awareness-month/2027-01-01/
CATEGORIES:Dates to Remember,Month-long Events
END:VEVENT
BEGIN:VEVENT
DTSTART;TZID=America/New_York:20270101T000000
DTEND;TZID=America/New_York:20270101T235959
DTSTAMP:20260424T120146
CREATED:20260109T021240Z
LAST-MODIFIED:20260115T223956Z
UID:10002660-1798761600-1798847999@wellbeings.org
SUMMARY:American Heart Month
DESCRIPTION:American Heart Month is a U.S. health observance focused on raising awareness about cardiovascular disease\, the leading cause of death in the country. Established in 1964\, it promotes heart-healthy behaviors such as physical activity\, balanced nutrition\, and regular screenings. The month also highlights health disparities affecting heart disease outcomes.
URL:https://wellbeings.org/event/american-heart-month/2027-01-01/
CATEGORIES:Dates to Remember,Month-long Events
END:VEVENT
BEGIN:VEVENT
DTSTART;TZID=America/New_York:20270201T000000
DTEND;TZID=America/New_York:20270201T235959
DTSTAMP:20260424T120146
CREATED:20260109T022422Z
LAST-MODIFIED:20260306T141328Z
UID:10002665-1801440000-1801526399@wellbeings.org
SUMMARY:National Cancer Prevention Month
DESCRIPTION:National Cancer Prevention Month highlights evidence-based strategies to reduce cancer risk\, including lifestyle changes\, early detection\, and environmental protections. Observed annually in February\, it emphasizes prevention alongside treatment and survivorship. Public health agencies use the month to promote screenings and education.
URL:https://wellbeings.org/event/national-cancer-prevention-month/2027-02-01/
CATEGORIES:Dates to Remember,Month-long Events
END:VEVENT
BEGIN:VEVENT
DTSTART;TZID=America/New_York:20270201T000000
DTEND;TZID=America/New_York:20270201T235959
DTSTAMP:20260424T120146
CREATED:20260109T024237Z
LAST-MODIFIED:20260306T141347Z
UID:10002670-1801440000-1801526399@wellbeings.org
SUMMARY:National Self-Check Month
DESCRIPTION:National Self-Check Month encourages individuals to become familiar with their own bodies and health indicators in order to notice early warning signs of illness. The observance promotes routine self-exams and proactive health monitoring. It is often paired with education on when to seek professional medical care.
URL:https://wellbeings.org/event/national-self-check-month/2027-02-01/
CATEGORIES:Dates to Remember,Month-long Events
END:VEVENT
BEGIN:VEVENT
DTSTART;TZID=America/New_York:20270201T000000
DTEND;TZID=America/New_York:20270201T235959
DTSTAMP:20260424T120146
CREATED:20260202T214856Z
LAST-MODIFIED:20260202T214859Z
UID:10002758-1801440000-1801526399@wellbeings.org
SUMMARY:Black History Month
DESCRIPTION:Black History Month is observed annually in the United States in February to recognize and celebrate the achievements\, history\, and contributions of African Americans across all fields\, including politics\, science\, the arts\, culture\, and civil rights. Originating from Negro History Week\, founded by historian Carter G. Woodson in 1926\, the observance has grown into a nationwide month of education\, reflection\, and cultural programming. Each year features a national theme highlighting specific aspects of Black history and life.
URL:https://wellbeings.org/event/black-history-month-3/2027-02-01/
CATEGORIES:Dates to Remember,Month-long Events
END:VEVENT
BEGIN:VEVENT
DTSTART;TZID=America/New_York:20270201T000000
DTEND;TZID=America/New_York:20270201T235959
DTSTAMP:20260424T120147
CREATED:20260202T220714Z
LAST-MODIFIED:20260202T220716Z
UID:10002764-1801440000-1801526399@wellbeings.org
SUMMARY:National Senior Independence Month
DESCRIPTION:National Senior Independence Month is observed in February to highlight the importance of maintaining independence\, dignity\, and quality of life for older adults. The observance promotes resources that support aging in place\, mobility\, healthcare access\, and social connection. It also recognizes caregivers and community services that help seniors remain active and engaged.
URL:https://wellbeings.org/event/national-senior-independence-month-2/2027-02-01/
CATEGORIES:Dates to Remember,Month-long Events
END:VEVENT
BEGIN:VEVENT
DTSTART;TZID=America/New_York:20270201T000000
DTEND;TZID=America/New_York:20270201T235959
DTSTAMP:20260424T120147
CREATED:20260202T221828Z
LAST-MODIFIED:20260202T221831Z
UID:10002770-1801440000-1801526399@wellbeings.org
SUMMARY:AMD and Low Vision Awareness Month
DESCRIPTION:Age-Related Macular Degeneration (AMD) and Low Vision Awareness Month is observed in February to raise awareness about vision loss conditions that affect millions of people worldwide. The observance highlights risk factors\, early symptoms\, treatment options\, and adaptive strategies that support independence. It also encourages routine eye exams and research into vision-preserving therapies.
URL:https://wellbeings.org/event/amd-and-low-vision-awareness-month/2027-02-01/
CATEGORIES:Dates to Remember,Month-long Events
END:VEVENT
BEGIN:VEVENT
DTSTART;TZID=America/New_York:20270201T000000
DTEND;TZID=America/New_York:20270208T235959
DTSTAMP:20260424T120147
CREATED:20260109T020843Z
LAST-MODIFIED:20260109T034547Z
UID:10002595-1801440000-1802131199@wellbeings.org
SUMMARY:International Boost Self-Esteem Month
DESCRIPTION:International Boost Self-Esteem Month is observed annually in February to encourage positive self-image\, confidence\, and emotional well-being. The observance emphasizes self-worth as a foundation for mental health\, healthy relationships\, and resilience. It is often used by educators and mental health organizations to promote self-acceptance practices.
URL:https://wellbeings.org/event/international-boost-self-esteem-month/2027-02-01/
CATEGORIES:Dates to Remember
END:VEVENT
BEGIN:VEVENT
DTSTART;TZID=America/New_York:20270204T000000
DTEND;TZID=America/New_York:20270204T235959
DTSTAMP:20260424T120147
CREATED:20260109T032752Z
LAST-MODIFIED:20260306T141129Z
UID:10000758-1801699200-1801785599@wellbeings.org
SUMMARY:World Cancer Day
DESCRIPTION:World Cancer Day is an international awareness day uniting global efforts to prevent\, detect\, and treat cancer. Led by the Union for International Cancer Control\, it promotes equitable access to care and research innovation. The day emphasizes collective action and global solidarity.
URL:https://wellbeings.org/event/world-cancer-day/2027-02-04/
CATEGORIES:Dates to Remember
END:VEVENT
BEGIN:VEVENT
DTSTART;TZID=America/New_York:20270213T000000
DTEND;TZID=America/New_York:20270220T235959
DTSTAMP:20260424T120147
CREATED:20260109T031336Z
LAST-MODIFIED:20260109T033124Z
UID:10000718-1802476800-1803167999@wellbeings.org
SUMMARY:Alzheimer’s and Dementia Staff Education Week
DESCRIPTION:Alzheimer’s and Dementia Staff Education Week recognizes healthcare professionals who support individuals living with dementia. The observance emphasizes training\, best practices\, and compassionate care for patients and families. It also promotes workforce education in long-term and memory care settings.
URL:https://wellbeings.org/event/alzheimers-and-dementia-staff-education-week/2027-02-13/
CATEGORIES:Dates to Remember
END:VEVENT
BEGIN:VEVENT
DTSTART;TZID=America/New_York:20270225T000000
DTEND;TZID=America/New_York:20270228T235959
DTSTAMP:20260424T120147
CREATED:20260109T032507Z
LAST-MODIFIED:20260306T141215Z
UID:10000738-1803513600-1803859199@wellbeings.org
SUMMARY:National Eating Disorder Awareness Week
DESCRIPTION:National Eating Disorder Awareness Week raises awareness about eating disorders\, their warning signs\, and available treatments. The observance aims to reduce stigma and promote early intervention. Advocacy organizations use the week to share education and recovery resources.
URL:https://wellbeings.org/event/national-eating-disorder-awareness-week/2027-02-25/
CATEGORIES:Dates to Remember
END:VEVENT
END:VCALENDAR