BEGIN:VCALENDAR
VERSION:2.0
PRODID:-//Well Beings - ECPv6.15.17.1//NONSGML v1.0//EN
CALSCALE:GREGORIAN
METHOD:PUBLISH
X-WR-CALNAME:Well Beings
X-ORIGINAL-URL:https://wellbeings.org
X-WR-CALDESC:Events for Well Beings
REFRESH-INTERVAL;VALUE=DURATION:PT1H
X-Robots-Tag:noindex
X-PUBLISHED-TTL:PT1H
BEGIN:VTIMEZONE
TZID:America/New_York
BEGIN:DAYLIGHT
TZOFFSETFROM:-0500
TZOFFSETTO:-0400
TZNAME:EDT
DTSTART:20250309T070000
END:DAYLIGHT
BEGIN:STANDARD
TZOFFSETFROM:-0400
TZOFFSETTO:-0500
TZNAME:EST
DTSTART:20251102T060000
END:STANDARD
BEGIN:DAYLIGHT
TZOFFSETFROM:-0500
TZOFFSETTO:-0400
TZNAME:EDT
DTSTART:20260308T070000
END:DAYLIGHT
BEGIN:STANDARD
TZOFFSETFROM:-0400
TZOFFSETTO:-0500
TZNAME:EST
DTSTART:20261101T060000
END:STANDARD
BEGIN:DAYLIGHT
TZOFFSETFROM:-0500
TZOFFSETTO:-0400
TZNAME:EDT
DTSTART:20270314T070000
END:DAYLIGHT
BEGIN:STANDARD
TZOFFSETFROM:-0400
TZOFFSETTO:-0500
TZNAME:EST
DTSTART:20271107T060000
END:STANDARD
END:VTIMEZONE
BEGIN:VEVENT
DTSTART;TZID=America/New_York:20260621T000000
DTEND;TZID=America/New_York:20260627T235959
DTSTAMP:20260423T122725
CREATED:20260409T161313Z
LAST-MODIFIED:20260409T161314Z
UID:10003735-1782000000-1782604799@wellbeings.org
SUMMARY:Helen Keller Deaf-Blind Awareness Week
DESCRIPTION:Commemorates the birthday of Helen Keller (June 27) and advocates for the rights and inclusion of individuals who are deaf-blind.
URL:https://wellbeings.org/event/helen-keller-deaf-blind-awareness-week/2026-06-21/
CATEGORIES:Dates to Remember
END:VEVENT
BEGIN:VEVENT
DTSTART;TZID=America/New_York:20260627T000000
DTEND;TZID=America/New_York:20260627T235959
DTSTAMP:20260423T122725
CREATED:20260410T195703Z
LAST-MODIFIED:20260410T195705Z
UID:10003766-1782518400-1782604799@wellbeings.org
SUMMARY:National HIV Testing Day
DESCRIPTION:Encourages people to get tested for HIV\, know their status\, and get linked to care and treatment services.
URL:https://wellbeings.org/event/national-hiv-testing-day/2026-06-27/
CATEGORIES:Dates to Remember
ATTACH;FMTTYPE=image/jpeg:https://wellbeings.org/wp-content/uploads/2026/04/HIV.jpg
END:VEVENT
BEGIN:VEVENT
DTSTART;TZID=America/New_York:20260701T000000
DTEND;TZID=America/New_York:20260701T235959
DTSTAMP:20260423T122725
CREATED:20250702T163438Z
LAST-MODIFIED:20260116T174947Z
UID:10000327-1782864000-1782950399@wellbeings.org
SUMMARY:National Minority Mental Health Awareness Month
DESCRIPTION:July\, designated in 2008\, honors Bebe Moore Campbell’s legacy and highlights mental health challenges faced by BIPOC communities\, including lower access to care and higher stigma.
URL:https://wellbeings.org/event/national-minority-mental-health-awareness-month/2026-07-01/
CATEGORIES:Dates to Remember,Month-long Events
END:VEVENT
BEGIN:VEVENT
DTSTART;TZID=America/New_York:20260701T000000
DTEND;TZID=America/New_York:20260701T235959
DTSTAMP:20260423T122725
CREATED:20250702T164140Z
LAST-MODIFIED:20260116T175121Z
UID:10000332-1782864000-1782950399@wellbeings.org
SUMMARY:National Parks & Recreation Month
DESCRIPTION:This observance recognizes the vital role that parks and recreational spaces play in promoting community health\, wellness\, equity\, and environmental stewardship.
URL:https://wellbeings.org/event/national-parks-recreation-month/2026-07-01/
CATEGORIES:Dates to Remember,Month-long Events
END:VEVENT
BEGIN:VEVENT
DTSTART;TZID=America/New_York:20260701T000000
DTEND;TZID=America/New_York:20260701T235959
DTSTAMP:20260423T122725
CREATED:20250702T164920Z
LAST-MODIFIED:20260116T175313Z
UID:10000337-1782864000-1782950399@wellbeings.org
SUMMARY:Ultraviolet (UV) Safety Month
DESCRIPTION:July’s sun heightens UV exposure- making it key to reinforce safe sun practices\, build environments that support shade\, and regular skin checks.
URL:https://wellbeings.org/event/ultraviolet-uv-safety-month/2026-07-01/
CATEGORIES:Dates to Remember,Month-long Events
END:VEVENT
BEGIN:VEVENT
DTSTART;TZID=America/New_York:20260701T000000
DTEND;TZID=America/New_York:20260701T235959
DTSTAMP:20260423T122725
CREATED:20250702T175712Z
LAST-MODIFIED:20260116T175442Z
UID:10000342-1782864000-1782950399@wellbeings.org
SUMMARY:Cord Blood Awareness Month
DESCRIPTION:This observance spotlights the life-saving potential of cord blood transplants\, which treat over 80 conditions\, including leukemia and genetic disorders.
URL:https://wellbeings.org/event/cord-blood-awareness-month/2026-07-01/
CATEGORIES:Dates to Remember,Month-long Events
END:VEVENT
BEGIN:VEVENT
DTSTART;TZID=America/New_York:20260701T000000
DTEND;TZID=America/New_York:20260701T235959
DTSTAMP:20260423T122725
CREATED:20250718T201519Z
LAST-MODIFIED:20260116T175620Z
UID:10000347-1782864000-1782950399@wellbeings.org
SUMMARY:Sarcoma Awareness Month
DESCRIPTION:July is Sarcoma Awareness Month\, dedicated to raising awareness about this rare type of cancer that develops in connective tissues. During this month\, organizations and individuals worldwide focus on educating the public about sarcomas\, promoting early detection\, and supporting those affected by the disease. 
URL:https://wellbeings.org/event/international-self-care-day-2/2026-07-01/
CATEGORIES:Dates to Remember,Month-long Events
END:VEVENT
BEGIN:VEVENT
DTSTART;TZID=America/New_York:20260701T000000
DTEND;TZID=America/New_York:20260701T235959
DTSTAMP:20260423T122725
CREATED:20250718T202203Z
LAST-MODIFIED:20260116T205930Z
UID:10002685-1782864000-1782950399@wellbeings.org
SUMMARY:Juvenile Arthritis Awareness Month
DESCRIPTION:July is Juvenile Arthritis Awareness Month\, a time dedicated to raising awareness about the chronic autoimmune condition that affects children and teens. Juvenile Arthritis (JA) is an umbrella term for various conditions causing joint inflammation and pain\, and it’s important to understand that kids can and do get arthritis. 
URL:https://wellbeings.org/event/national-disability-independence-day-2/2026-07-01/
CATEGORIES:Dates to Remember,Month-long Events
END:VEVENT
BEGIN:VEVENT
DTSTART;TZID=America/New_York:20260701T000000
DTEND;TZID=America/New_York:20260701T235959
DTSTAMP:20260423T122725
CREATED:20260421T181003Z
LAST-MODIFIED:20260421T184210Z
UID:10003773-1782864000-1782950399@wellbeings.org
SUMMARY:Disability Pride Month
DESCRIPTION:Observed each July since 2015\, this observance celebrates the identities\, contributions\, and rights of people with disabilities\, rooted in the Americans with Disabilities Act of 1990.
URL:https://wellbeings.org/event/disability-pride-month/2026-07-01/
CATEGORIES:Dates to Remember,Month-long Events
END:VEVENT
BEGIN:VEVENT
DTSTART;TZID=America/New_York:20260701T000000
DTEND;TZID=America/New_York:20260701T235959
DTSTAMP:20260423T122725
CREATED:20260421T184045Z
LAST-MODIFIED:20260421T184046Z
UID:10003778-1782864000-1782950399@wellbeings.org
SUMMARY:French-American Heritage Month
DESCRIPTION:Honors the contributions and influence of people of French descent on the United States\, recognizing France as the first ally of the U.S. and its impact on culture\, science\, and the arts.
URL:https://wellbeings.org/event/french-american-heritage-month/2026-07-01/
CATEGORIES:Dates to Remember,Month-long Events
END:VEVENT
BEGIN:VEVENT
DTSTART;TZID=America/New_York:20260701T000000
DTEND;TZID=America/New_York:20260701T235959
DTSTAMP:20260423T122725
CREATED:20260421T184828Z
LAST-MODIFIED:20260421T184830Z
UID:10003783-1782864000-1782950399@wellbeings.org
SUMMARY:National Cleft & Craniofacial Awareness and Prevention Month
DESCRIPTION:Focuses on raising awareness of cleft lip\, cleft palate\, and other craniofacial conditions\, providing information on treatment options and support networks for affected families.
URL:https://wellbeings.org/event/national-cleft-craniofacial-awareness-and-prevention-month/2026-07-01/
CATEGORIES:Dates to Remember,Month-long Events
END:VEVENT
BEGIN:VEVENT
DTSTART;TZID=America/New_York:20260701T000000
DTEND;TZID=America/New_York:20260701T235959
DTSTAMP:20260423T122725
CREATED:20260422T201132Z
LAST-MODIFIED:20260422T201134Z
UID:10003789-1782864000-1782950399@wellbeings.org
SUMMARY:National Postal Workers Day
DESCRIPTION:A day to appreciate the postal workers who walk miles every day to deliver mail and packages in all weather conditions.
URL:https://wellbeings.org/event/national-postal-workers-day/2026-07-01/
CATEGORIES:Dates to Remember
END:VEVENT
BEGIN:VEVENT
DTSTART;TZID=America/New_York:20260702T000000
DTEND;TZID=America/New_York:20260702T235959
DTSTAMP:20260423T122725
CREATED:20250702T183114Z
LAST-MODIFIED:20260108T202654Z
UID:10000357-1782950400-1783036799@wellbeings.org
SUMMARY:Civil Rights Act Anniversary
DESCRIPTION:Signed into law in 1964\, the Civil Rights Act was a landmark for racial justice\, outlawing segregation and workplace discrimination. Its legacy still shapes equity work today.
URL:https://wellbeings.org/event/civil-rights-act-anniversary/2026-07-02/
CATEGORIES:Dates to Remember
END:VEVENT
BEGIN:VEVENT
DTSTART;TZID=America/New_York:20260703T000000
DTEND;TZID=America/New_York:20260703T235959
DTSTAMP:20260423T122725
CREATED:20260422T204653Z
LAST-MODIFIED:20260422T204655Z
UID:10003794-1783036800-1783123199@wellbeings.org
SUMMARY:International Plastic Bag Free Day
DESCRIPTION:A global initiative to raise awareness about the environmental impact of single-use plastic bags and encourage sustainable alternatives.
URL:https://wellbeings.org/event/international-plastic-bag-free-day/2026-07-03/
CATEGORIES:Dates to Remember
END:VEVENT
BEGIN:VEVENT
DTSTART;TZID=America/New_York:20260706T080000
DTEND;TZID=America/New_York:20260706T170000
DTSTAMP:20260423T122725
CREATED:20260422T210506Z
LAST-MODIFIED:20260422T210508Z
UID:10003799-1783324800-1783357200@wellbeings.org
SUMMARY:National Air Traffic Control Day
DESCRIPTION:Recognizes the air traffic controllers who ensure the safety of millions of passengers and flights every day.
URL:https://wellbeings.org/event/national-air-traffic-control-day/
CATEGORIES:Dates to Remember
END:VEVENT
BEGIN:VEVENT
DTSTART;TZID=America/New_York:20260707T000000
DTEND;TZID=America/New_York:20260707T235959
DTSTAMP:20260423T122725
CREATED:20260422T211721Z
LAST-MODIFIED:20260422T211723Z
UID:10003800-1783382400-1783468799@wellbeings.org
SUMMARY:Start The Conversation Day
DESCRIPTION:A day focused on breaking the silence around mental health and encouraging people to check in on their friends and loved ones.
URL:https://wellbeings.org/event/start-the-conversation-day/2026-07-07/
CATEGORIES:Dates to Remember
END:VEVENT
BEGIN:VEVENT
DTSTART;TZID=America/New_York:20260711T000000
DTEND;TZID=America/New_York:20260711T235959
DTSTAMP:20260423T122725
CREATED:20250702T183409Z
LAST-MODIFIED:20260108T203031Z
UID:10000362-1783728000-1783814399@wellbeings.org
SUMMARY:National Cheer Up the Lonely Day
DESCRIPTION:A simple call to action: reach out\, connect\, and remind someone they’re not alone. Small gestures make a big difference.
URL:https://wellbeings.org/event/chronic-disease-awareness-day/2026-07-11/
CATEGORIES:Dates to Remember
END:VEVENT
BEGIN:VEVENT
DTSTART;TZID=America/New_York:20260718T000000
DTEND;TZID=America/New_York:20260718T235959
DTSTAMP:20260423T122725
CREATED:20250702T184249Z
LAST-MODIFIED:20260108T203134Z
UID:10000367-1784332800-1784419199@wellbeings.org
SUMMARY:Black Leaders Awareness Day
DESCRIPTION:This day honors past and present African American leaders who’ve shaped progress in health\, justice\, education\, and community care.
URL:https://wellbeings.org/event/black-leaders-awareness-day/2026-07-18/
CATEGORIES:Dates to Remember
END:VEVENT
BEGIN:VEVENT
DTSTART;TZID=America/New_York:20260718T000000
DTEND;TZID=America/New_York:20260718T235959
DTSTAMP:20260423T122725
CREATED:20250718T195128Z
LAST-MODIFIED:20260108T203521Z
UID:10000372-1784332800-1784419199@wellbeings.org
SUMMARY:Nelson Mandela Day
DESCRIPTION:Mandela Day is an annual global celebration that takes place on 18 July to honour the life and legacy of Nelson Mandela. This day is a call to action for individuals\, communities\, and organisations to take time to reflect on Mandela’s values and principles and to make a positive impact in their own communities.
URL:https://wellbeings.org/event/nelson-mandela-day-2/2026-07-18/
CATEGORIES:Dates to Remember
END:VEVENT
BEGIN:VEVENT
DTSTART;TZID=America/New_York:20260719T000000
DTEND;TZID=America/New_York:20260725T235959
DTSTAMP:20260423T122725
CREATED:20250702T180123Z
LAST-MODIFIED:20260108T203901Z
UID:10000377-1784419200-1785023999@wellbeings.org
SUMMARY:National Parenting Gifted Children Week
DESCRIPTION:This week supports caregivers raising gifted kids\, celebrating their creativity while raising awareness for support for gifted and talented children and their families.
URL:https://wellbeings.org/event/national-parenting-gifted-children-week/2026-07-19/
CATEGORIES:Dates to Remember
END:VEVENT
BEGIN:VEVENT
DTSTART;TZID=America/New_York:20260722T000000
DTEND;TZID=America/New_York:20260722T235959
DTSTAMP:20260423T122725
CREATED:20250718T200348Z
LAST-MODIFIED:20260108T204140Z
UID:10000382-1784678400-1784764799@wellbeings.org
SUMMARY:World Brain Day
DESCRIPTION:World Brain Day is an annual event on July 22nd dedicated to raising awareness about brain health and neurological disorders. It was established by the World Federation of Neurology (WFN) in 2014. The day aims to promote preventative measures\, educate the public\, and advocate for improved research\, treatment\, and support for neurological conditions\, according to several sources. 
URL:https://wellbeings.org/event/world-brain-day/2026-07-22/
CATEGORIES:Dates to Remember
END:VEVENT
BEGIN:VEVENT
DTSTART;TZID=America/New_York:20260724T000000
DTEND;TZID=America/New_York:20260724T235959
DTSTAMP:20260423T122725
CREATED:20250702T184510Z
LAST-MODIFIED:20260108T204348Z
UID:10000387-1784851200-1784937599@wellbeings.org
SUMMARY:International Self-Care Day
DESCRIPTION:Self-care is more than bubble baths. It’s rest\, boundaries\, hydration\, checkups-and showing yourself compassion year-round.
URL:https://wellbeings.org/event/international-self-care-day/2026-07-24/
CATEGORIES:Dates to Remember
END:VEVENT
BEGIN:VEVENT
DTSTART;TZID=America/New_York:20260725T000000
DTEND;TZID=America/New_York:20260725T235959
DTSTAMP:20260423T122725
CREATED:20250718T201930Z
LAST-MODIFIED:20260108T204948Z
UID:10000392-1784937600-1785023999@wellbeings.org
SUMMARY:World Drowning Prevention Day
DESCRIPTION:World Drowning Prevention Day\, declared through a United Nations General Assembly Resolution\, is held annually on July 25. Through this global event\, we remember lives lost due to drowning and aim to increase knowledge on safety in and around water. Drowning doesn’t have a single cause or a single solution.
URL:https://wellbeings.org/event/world-drowning-prevention-day/2026-07-25/
CATEGORIES:Dates to Remember
END:VEVENT
BEGIN:VEVENT
DTSTART;TZID=America/New_York:20260726T000000
DTEND;TZID=America/New_York:20260726T235959
DTSTAMP:20260423T122725
CREATED:20250702T184819Z
LAST-MODIFIED:20260108T205250Z
UID:10000397-1785024000-1785110399@wellbeings.org
SUMMARY:National Disability Independence Day
DESCRIPTION:Commemorating the ADA’s signing in 1990\, this day celebrates disability rights\, access\, and the ongoing movement for full inclusion.
URL:https://wellbeings.org/event/national-disability-independence-day/2026-07-26/
CATEGORIES:Dates to Remember
END:VEVENT
BEGIN:VEVENT
DTSTART;TZID=America/New_York:20260728T000000
DTEND;TZID=America/New_York:20260728T235959
DTSTAMP:20260423T122725
CREATED:20250718T202630Z
LAST-MODIFIED:20260108T205429Z
UID:10000402-1785196800-1785283199@wellbeings.org
SUMMARY:World Hepatitis Day
DESCRIPTION:World Hepatitis Day takes place every year on 28 July\, bringing the world together to raise awareness of viral hepatitis\, its global burden\, and to influence real change.
URL:https://wellbeings.org/event/world-hepatitis-day/2026-07-28/
CATEGORIES:Dates to Remember
END:VEVENT
BEGIN:VEVENT
DTSTART;TZID=America/New_York:20260801T000000
DTEND;TZID=America/New_York:20260801T235959
DTSTAMP:20260423T122725
CREATED:20250721T184213Z
LAST-MODIFIED:20260116T182638Z
UID:10000407-1785542400-1785628799@wellbeings.org
SUMMARY:National Breastfeeding Month
DESCRIPTION:National Breastfeeding Month is observed in August in the United States. This month is dedicated to promoting and supporting breastfeeding and raising awareness about its benefits for both mothers and babies. 
URL:https://wellbeings.org/event/national-breastfeeding-month/2026-08-01/
CATEGORIES:Dates to Remember,Month-long Events
END:VEVENT
BEGIN:VEVENT
DTSTART;TZID=America/New_York:20260801T000000
DTEND;TZID=America/New_York:20260801T235959
DTSTAMP:20260423T122725
CREATED:20250721T185335Z
LAST-MODIFIED:20260116T210154Z
UID:10000412-1785542400-1785628799@wellbeings.org
SUMMARY:National Immunization Awareness Month
DESCRIPTION:National Immunization Awareness Month (NIAM) is an annual observance in August that highlights the importance of vaccination for people of all ages. It’s a time to remind everyone to talk to their healthcare provider about recommended vaccines and ensure they are up-to-date on their immunizations. This includes vaccinations for children\, adolescents\, adults\, and even pets.
URL:https://wellbeings.org/event/national-immunization-awareness-month/2026-08-01/
CATEGORIES:Dates to Remember,Month-long Events
END:VEVENT
BEGIN:VEVENT
DTSTART;TZID=America/New_York:20260801T000000
DTEND;TZID=America/New_York:20260801T235959
DTSTAMP:20260423T122725
CREATED:20250721T185725Z
LAST-MODIFIED:20260116T210412Z
UID:10000417-1785542400-1785628799@wellbeings.org
SUMMARY:Black Business Month
DESCRIPTION:National Black Business Month is celebrated every August to recognize and support Black-owned businesses in the United States. It was established in 2004 to highlight the contributions of Black entrepreneurs and the importance of their businesses to the economy and communities. The month serves as a reminder to uplift and empower Black business owners and address the challenges they face.
URL:https://wellbeings.org/event/black-business-month/2026-08-01/
CATEGORIES:Dates to Remember,Month-long Events
END:VEVENT
BEGIN:VEVENT
DTSTART;TZID=America/New_York:20260801T000000
DTEND;TZID=America/New_York:20260801T235959
DTSTAMP:20260423T122725
CREATED:20250724T173220Z
LAST-MODIFIED:20260108T210313Z
UID:10000437-1785542400-1785628799@wellbeings.org
SUMMARY:World Lung Cancer Day
DESCRIPTION:World Lung Cancer Day is observed annually on August 1st. In 2025\, World Lung Cancer Day will fall on a Friday.  \n\n\n\nThis day aims to raise awareness about lung cancer\, promote early detection\, support research\, and advocate for policies that reduce the burden of this disease. 
URL:https://wellbeings.org/event/world-lung-cancer-day/2026-08-01/
CATEGORIES:Dates to Remember
END:VEVENT
BEGIN:VEVENT
DTSTART;TZID=America/New_York:20260801T000000
DTEND;TZID=America/New_York:20260801T235959
DTSTAMP:20260423T122725
CREATED:20250724T173616Z
LAST-MODIFIED:20260108T210413Z
UID:10000442-1785542400-1785628799@wellbeings.org
SUMMARY:DOGust Universal Birthday for Shelter Dogs
DESCRIPTION:August 1st is known as “DOGust 1st\,” a universal birthday for shelter dogs whose actual birthdates are unknown. This day is a chance for shelters to celebrate all their adoptable dogs and raise awareness for pet adoption. It’s a fun way for pet parents to celebrate their adopted dogs’ “gotcha day” or choose August 1st as an annual celebration. 
URL:https://wellbeings.org/event/dogust-day/2026-08-01/
CATEGORIES:Dates to Remember
END:VEVENT
END:VCALENDAR