BEGIN:VCALENDAR
VERSION:2.0
PRODID:-//Well Beings - ECPv6.15.17.1//NONSGML v1.0//EN
CALSCALE:GREGORIAN
METHOD:PUBLISH
X-WR-CALNAME:Well Beings
X-ORIGINAL-URL:https://wellbeings.org
X-WR-CALDESC:Events for Well Beings
REFRESH-INTERVAL;VALUE=DURATION:PT1H
X-Robots-Tag:noindex
X-PUBLISHED-TTL:PT1H
BEGIN:VTIMEZONE
TZID:America/New_York
BEGIN:DAYLIGHT
TZOFFSETFROM:-0500
TZOFFSETTO:-0400
TZNAME:EDT
DTSTART:20250309T070000
END:DAYLIGHT
BEGIN:STANDARD
TZOFFSETFROM:-0400
TZOFFSETTO:-0500
TZNAME:EST
DTSTART:20251102T060000
END:STANDARD
BEGIN:DAYLIGHT
TZOFFSETFROM:-0500
TZOFFSETTO:-0400
TZNAME:EDT
DTSTART:20260308T070000
END:DAYLIGHT
BEGIN:STANDARD
TZOFFSETFROM:-0400
TZOFFSETTO:-0500
TZNAME:EST
DTSTART:20261101T060000
END:STANDARD
BEGIN:DAYLIGHT
TZOFFSETFROM:-0500
TZOFFSETTO:-0400
TZNAME:EDT
DTSTART:20270314T070000
END:DAYLIGHT
BEGIN:STANDARD
TZOFFSETFROM:-0400
TZOFFSETTO:-0500
TZNAME:EST
DTSTART:20271107T060000
END:STANDARD
END:VTIMEZONE
BEGIN:VEVENT
DTSTART;TZID=America/New_York:20260304T000000
DTEND;TZID=America/New_York:20260304T235959
DTSTAMP:20260419T085442
CREATED:20260225T191456Z
LAST-MODIFIED:20260306T140953Z
UID:10002835-1772582400-1772668799@wellbeings.org
SUMMARY:International HPV Awareness Day
DESCRIPTION:The HPV Awareness Day aims to raise awareness about the availability of prevention tools\, to promote education about HPV\, and encourage governments and individuals across the world to take action against HPV to save hundreds of thousands of women and men that can benefit from the HPV vaccine and/or screening for the early detection of cancer and treatment.
URL:https://wellbeings.org/event/international-hpv-awareness-day/2026-03-04/
CATEGORIES:Dates to Remember
END:VEVENT
BEGIN:VEVENT
DTSTART;TZID=America/New_York:20260304T000000
DTEND;TZID=America/New_York:20260304T235959
DTSTAMP:20260419T085442
CREATED:20260225T191748Z
LAST-MODIFIED:20260306T141014Z
UID:10002841-1772582400-1772668799@wellbeings.org
SUMMARY:World Obesity Day
DESCRIPTION:A global campaign to encourage practical solutions to help people achieve and maintain a healthy weight and reverse the obesity crisis.
URL:https://wellbeings.org/event/world-obesity-day/2026-03-04/
CATEGORIES:Dates to Remember
END:VEVENT
END:VCALENDAR