BEGIN:VCALENDAR
VERSION:2.0
PRODID:-//Well Beings - ECPv6.15.17.1//NONSGML v1.0//EN
CALSCALE:GREGORIAN
METHOD:PUBLISH
X-ORIGINAL-URL:https://wellbeings.org
X-WR-CALDESC:Events for Well Beings
REFRESH-INTERVAL;VALUE=DURATION:PT1H
X-Robots-Tag:noindex
X-PUBLISHED-TTL:PT1H
BEGIN:VTIMEZONE
TZID:America/New_York
BEGIN:DAYLIGHT
TZOFFSETFROM:-0500
TZOFFSETTO:-0400
TZNAME:EDT
DTSTART:20250309T070000
END:DAYLIGHT
BEGIN:STANDARD
TZOFFSETFROM:-0400
TZOFFSETTO:-0500
TZNAME:EST
DTSTART:20251102T060000
END:STANDARD
BEGIN:DAYLIGHT
TZOFFSETFROM:-0500
TZOFFSETTO:-0400
TZNAME:EDT
DTSTART:20260308T070000
END:DAYLIGHT
BEGIN:STANDARD
TZOFFSETFROM:-0400
TZOFFSETTO:-0500
TZNAME:EST
DTSTART:20261101T060000
END:STANDARD
BEGIN:DAYLIGHT
TZOFFSETFROM:-0500
TZOFFSETTO:-0400
TZNAME:EDT
DTSTART:20270314T070000
END:DAYLIGHT
BEGIN:STANDARD
TZOFFSETFROM:-0400
TZOFFSETTO:-0500
TZNAME:EST
DTSTART:20271107T060000
END:STANDARD
END:VTIMEZONE
BEGIN:VEVENT
DTSTART;TZID=America/New_York:20260331T000000
DTEND;TZID=America/New_York:20260331T235959
DTSTAMP:20260420T140259
CREATED:20260304T155853Z
LAST-MODIFIED:20260306T135448Z
UID:10003244-1774915200-1775001599@wellbeings.org
SUMMARY:World Bipolar Day
DESCRIPTION:At the Cesar Chavez Foundation\, our mission is to carry on Cesar’s life’s work of uplifting the lives of Latinos and working families by inspiring and transforming communities through social enterprises that address essential human\, cultural and community needs.
URL:https://wellbeings.org/event/world-bipolar-day/2026-03-31/
CATEGORIES:Dates to Remember
END:VEVENT
BEGIN:VEVENT
DTSTART;TZID=America/New_York:20260331T000000
DTEND;TZID=America/New_York:20260331T235959
DTSTAMP:20260420T140259
CREATED:20260304T160451Z
LAST-MODIFIED:20260306T135427Z
UID:10003249-1774915200-1775001599@wellbeings.org
SUMMARY:César Chávez Day
DESCRIPTION:The International Transgender Day of Visibility (TDOV) is an annual day of recognition\, celebrated around the world on March 31st\, which is dedicated to celebrating the accomplishments and victories of transgender and gender-expansive people\, while simultaneously raising awareness of the work that is still needed to combat discrimination and violence.
URL:https://wellbeings.org/event/cesar-chavez-day/2026-03-31/
CATEGORIES:Dates to Remember
END:VEVENT
END:VCALENDAR