BEGIN:VCALENDAR
VERSION:2.0
PRODID:-//Well Beings - ECPv6.15.17.1//NONSGML v1.0//EN
CALSCALE:GREGORIAN
METHOD:PUBLISH
X-ORIGINAL-URL:https://wellbeings.org
X-WR-CALDESC:Events for Well Beings
REFRESH-INTERVAL;VALUE=DURATION:PT1H
X-Robots-Tag:noindex
X-PUBLISHED-TTL:PT1H
BEGIN:VTIMEZONE
TZID:America/New_York
BEGIN:DAYLIGHT
TZOFFSETFROM:-0500
TZOFFSETTO:-0400
TZNAME:EDT
DTSTART:20240310T070000
END:DAYLIGHT
BEGIN:STANDARD
TZOFFSETFROM:-0400
TZOFFSETTO:-0500
TZNAME:EST
DTSTART:20241103T060000
END:STANDARD
BEGIN:DAYLIGHT
TZOFFSETFROM:-0500
TZOFFSETTO:-0400
TZNAME:EDT
DTSTART:20250309T070000
END:DAYLIGHT
BEGIN:STANDARD
TZOFFSETFROM:-0400
TZOFFSETTO:-0500
TZNAME:EST
DTSTART:20251102T060000
END:STANDARD
BEGIN:DAYLIGHT
TZOFFSETFROM:-0500
TZOFFSETTO:-0400
TZNAME:EDT
DTSTART:20260308T070000
END:DAYLIGHT
BEGIN:STANDARD
TZOFFSETFROM:-0400
TZOFFSETTO:-0500
TZNAME:EST
DTSTART:20261101T060000
END:STANDARD
END:VTIMEZONE
BEGIN:VEVENT
DTSTART;TZID=America/New_York:20250820T190000
DTEND;TZID=America/New_York:20250820T203000
DTSTAMP:20260420T120043
CREATED:20250812T195248Z
LAST-MODIFIED:20250812T203329Z
UID:10000140-1755716400-1755721800@wellbeings.org
SUMMARY:Caregiving: A Community Conversation Hosted By Nashville Public Radio
DESCRIPTION:Join Nashville Public Radio Editor and Afternoon Host LaTonya Turner for a robust\, interactive conversation for and by caregivers in Tennessee. This community event will provide information and resources from experts in the field of caregiving as well as people with lived experiences taking care of aging parents\, children with disabilities\, spouses\, and other loved ones with serious illnesses or nearing end of life. The program includes a brief screening from the PBS/Bradley Cooper documentary\, CAREGIVING. This will be a timely and vital discussion at a time when recent federal budget cuts will greatly reduce support and services for caregivers. Dinner will be provided. This event is free and open to the public\, and free parking is available. Space is limited. RSVP by August 13. \n\n\n\nGuest panelists/speakers include: \n\n\n\nDr. Feylyn Lewis\, Ph.D. \n\n\n\nVanderbilt University School of Nursing \n\n\n\nResearcher & consultant specializing in youth caregiving \n\n\n\nDr. Megan Schwalm\, Ph.D. \n\n\n\nTennessee Caregiver Coalition \n\n\n\nPresident & CEO \n\n\n\nRev. Dr. Harmon E. Stockdale Jr. \n\n\n\nLake Providence Missionary Baptist Church \n\n\n\nAgeWell Eldercare Coach Partner
URL:https://wellbeings.org/event/caregiving-a-community-conversation-hosted-by-nashville-public-radio/
LOCATION:Community Foundation of Middle Tennessee\, 3421 Belmont Boulevard\, Nashville\, TN\, 37215\, United States
CATEGORIES:Screenings & Panels
ATTACH;FMTTYPE=image/png:https://wellbeings.org/wp-content/uploads/2025/08/nashvillepublicradio-caregiving.png
ORGANIZER;CN="Nashville Public Radio":MAILTO:webmaster@wpln.org
END:VEVENT
END:VCALENDAR